BEGIN:VCALENDAR
VERSION:2.0
PRODID:-//Mercer Events - ECPv5.16.4//NONSGML v1.0//EN
CALSCALE:GREGORIAN
METHOD:PUBLISH
X-WR-CALNAME:Mercer Events
X-ORIGINAL-URL:https://events.mercer.edu
X-WR-CALDESC:Events for Mercer Events
BEGIN:VTIMEZONE
TZID:America/New_York
BEGIN:DAYLIGHT
TZOFFSETFROM:-0500
TZOFFSETTO:-0400
TZNAME:EDT
DTSTART:20260308T070000
END:DAYLIGHT
BEGIN:STANDARD
TZOFFSETFROM:-0400
TZOFFSETTO:-0500
TZNAME:EST
DTSTART:20261101T060000
END:STANDARD
END:VTIMEZONE
BEGIN:VEVENT
DTSTART;TZID=America/New_York:20260226T180000
DTEND;TZID=America/New_York:20260226T200000
DTSTAMP:20260425T201134
CREATED:20260223T202118Z
LAST-MODIFIED:20260223T202118Z
UID:30704-1772128800-1772136000@events.mercer.edu
SUMMARY:2026 Byington Lecture
DESCRIPTION:Join us for a the 2026 Byington Lecture given by “Salvation South” founder Chuck Reece.
URL:https://events.mercer.edu/event/2026-byington-lecture/
LOCATION:Presidents Dining Room\, 1501 Mercer University Drive\, Macon\, 31207
CATEGORIES:Public
ATTACH;FMTTYPE=image/jpeg:https://events.mercer.edu/wp-content/uploads/sites/3/2026/02/ByingtonLecturePoster26_PRNT.jpg
END:VEVENT
END:VCALENDAR