BEGIN:VCALENDAR
VERSION:2.0
PRODID:-//Mercer Events - ECPv5.16.4//NONSGML v1.0//EN
CALSCALE:GREGORIAN
METHOD:PUBLISH
X-WR-CALNAME:Mercer Events
X-ORIGINAL-URL:https://events.mercer.edu
X-WR-CALDESC:Events for Mercer Events
BEGIN:VTIMEZONE
TZID:America/New_York
BEGIN:DAYLIGHT
TZOFFSETFROM:-0500
TZOFFSETTO:-0400
TZNAME:EDT
DTSTART:20230312T070000
END:DAYLIGHT
BEGIN:STANDARD
TZOFFSETFROM:-0400
TZOFFSETTO:-0500
TZNAME:EST
DTSTART:20231105T060000
END:STANDARD
END:VTIMEZONE
BEGIN:VEVENT
DTSTART;TZID=America/New_York:20231109T193000
DTEND;TZID=America/New_York:20231109T213000
DTSTAMP:20260424T095343
CREATED:20230815T185905Z
LAST-MODIFIED:20231101T132715Z
UID:16719-1699558200-1699565400@events.mercer.edu
SUMMARY:Mercer Theatre Presents "A Divine Kerfuffle"
DESCRIPTION:A Divine Kerfuffle\, by H. Russ Brown\nDirected by Scot Mann\nProduced by special arrangement with Next Stage Press\, Inc. \nThe year is 1895 and Sarah Bernhardt is the greatest actress to ever grace the Victorian stage – just ask her! In this high-energy\, physical comedy\, the stage is set for the ultimate showdown as the two dueling divas cross wits and blades in this frantically funny farce! \nTickets.mercer.edu\nShow dates: November 9-11 and 16-18 @ 7:30\, and November 12 and 19 @ 2:30
URL:https://events.mercer.edu/event/a-divine-kerfuffle/2023-11-09/
LOCATION:Tattnall Square Center for the Arts\, 1096 College Street\, Macon\, 31207
CATEGORIES:Arts
ATTACH;FMTTYPE=image/jpeg:https://events.mercer.edu/wp-content/uploads/sites/3/2023/08/Kerfuffle-2.0-1.jpg
END:VEVENT
END:VCALENDAR