BEGIN:VCALENDAR
VERSION:2.0
PRODID:-//Mercer Events - ECPv5.16.4//NONSGML v1.0//EN
CALSCALE:GREGORIAN
METHOD:PUBLISH
X-WR-CALNAME:Mercer Events
X-ORIGINAL-URL:https://events.mercer.edu
X-WR-CALDESC:Events for Mercer Events
BEGIN:VTIMEZONE
TZID:America/New_York
BEGIN:DAYLIGHT
TZOFFSETFROM:-0500
TZOFFSETTO:-0400
TZNAME:EDT
DTSTART:20260308T070000
END:DAYLIGHT
BEGIN:STANDARD
TZOFFSETFROM:-0400
TZOFFSETTO:-0500
TZNAME:EST
DTSTART:20261101T060000
END:STANDARD
END:VTIMEZONE
BEGIN:VEVENT
DTSTART;TZID=America/New_York:20260123T193000
DTEND;TZID=America/New_York:20260123T210000
DTSTAMP:20260421T072740
CREATED:20251216T210029Z
LAST-MODIFIED:20260107T154159Z
UID:29124-1769196600-1769202000@events.mercer.edu
SUMMARY:Alumni Recital: Caroline Cooke\, Soprano
DESCRIPTION:Soprano Caroline Cooke is an alumna of the Eastman School of Music\, where she earned her Master’s degree in vocal performance and literature. Favorite past roles include Musetta (La bohème)\, Zerlina (Don Giovanni)\, Stella (Le dernier Sorcier)\, Meg March (Little Women: The Musical)\, and Belinda (Dido and Aeneas). She appeared in Eastman Opera Theatre’s recent productions of Dido and Aeneas (First Witch)\, Dialogues des Carmélites (Soeur Anne de la Croix)\, and Florencia en el Amazonas. While completing her bachelor’s degree at Mercer University’s Townsend School of Music\, Caroline was featured in comedic roles in Guys and Dolls (Hotbox Dancer/Mimi) and Viva La Mamma! (Luigia). A native of Macon\, Georgia\, Caroline performs regularly in the Southeastern United States\, both on the operatic and concert stage. Her career has also taken her to the West Coast\, singing roles such as Musetta in La bohème\, and performing scenes as Susanna (Le nozze di Figaro) and Zerlina (Don Giovanni) with Source/Filter Music Collective\, a company dedicated to bringing new\, exciting interpretations of opera to Southern California.
URL:https://events.mercer.edu/event/alumni-recital-caroline-cooke-soprano/
LOCATION:Fickling Hall\, 1501 Mercer University Drive\, Macon\, 31207
CATEGORIES:Arts
ATTACH;FMTTYPE=image/jpeg:https://events.mercer.edu/wp-content/uploads/sites/3/2025/12/Caroline.jpg
ORGANIZER;CN="Townsend%20School%20of%20Music":MAILTO:music@mercer.edu
END:VEVENT
END:VCALENDAR