BEGIN:VCALENDAR
VERSION:2.0
PRODID:-//Mercer Events - ECPv5.16.4//NONSGML v1.0//EN
CALSCALE:GREGORIAN
METHOD:PUBLISH
X-WR-CALNAME:Mercer Events
X-ORIGINAL-URL:https://events.mercer.edu
X-WR-CALDESC:Events for Mercer Events
BEGIN:VTIMEZONE
TZID:America/New_York
BEGIN:DAYLIGHT
TZOFFSETFROM:-0500
TZOFFSETTO:-0400
TZNAME:EDT
DTSTART:20250309T070000
END:DAYLIGHT
BEGIN:STANDARD
TZOFFSETFROM:-0400
TZOFFSETTO:-0500
TZNAME:EST
DTSTART:20251102T060000
END:STANDARD
END:VTIMEZONE
BEGIN:VEVENT
DTSTART;TZID=America/New_York:20250124T100000
DTEND;TZID=America/New_York:20250124T143000
DTSTAMP:20260425T080921
CREATED:20241023T173916Z
LAST-MODIFIED:20241023T173916Z
UID:23625-1737712800-1737729000@events.mercer.edu
SUMMARY:Artificial Intelligence (AI) — Beginners
DESCRIPTION:The Beginner program serves as a gateway into the world of Natural Language Processing (NLP) and ChatGPT\, providing small business owners and professionals with a foundational understanding of these powerful tools. Participants will learn the basics of NLP\, including key concepts like tokenization and sentiment analysis\, and explore how ChatGPT can be utilized for various business applications. The course includes practical sessions on setting up and interacting with ChatGPT\, crafting effective prompts\, and addressing common challenges. By the end of the course\, attendees will have the skills to start using ChatGPT to enhance their business operations and customer interactions. \nOne Introduction to Natural Language Processing (NLP) (45 minutes) \nDefinition and Overview of NLP\nKey Concepts in NLP: Tokenization\, Lemmatization\, Sentiment Analysis\, etc\nReal-world Applications of NLP in Businesses \nTwo Introduction to ChatGPT (30 minutes) \nWhat is ChatGPT?\nOverview of How ChatGPT Works (Basic understanding of AI and Language Models)\nUse Cases of ChatGPT in Small Businesses \nThree Setting Up and Using ChatGPT (1 hour) \nCreating an Account and Accessing ChatGPT\nBasic Commands and Interactions with ChatGPT\nExample Scenarios: Customer Support\, Content Creation\, Basic Automation \nFour Best Practices for Using ChatGPT in Small Business (1 hour) \nCrafting Effective Prompts\nHandling Common Issues and Errors\nEthical Considerations and Limitations \nFive Hands-on Practice and Q&A (45 minutes) \nGuided Exercises: Creating Prompts for Business Scenarios\nGroup Discussion: Potential Use Cases in Participant’s Businesses\nQ&A Session
URL:https://events.mercer.edu/event/artificial-intelligence-ai-beginners/
LOCATION:Mercer University Atlanta Campus\, 3001 Mercer University Drive\, Atlanta\, 30341
CATEGORIES:Student
ATTACH;FMTTYPE=image/jpeg:https://events.mercer.edu/wp-content/uploads/sites/3/2024/10/AI-image-3.jpg
ORGANIZER;CN="Jeff%20Wolfe":MAILTO:wolfe_jj@mercer.edu
END:VEVENT
END:VCALENDAR