BEGIN:VCALENDAR
VERSION:2.0
PRODID:-//Mercer Events - ECPv5.16.4//NONSGML v1.0//EN
CALSCALE:GREGORIAN
METHOD:PUBLISH
X-WR-CALNAME:Mercer Events
X-ORIGINAL-URL:https://events.mercer.edu
X-WR-CALDESC:Events for Mercer Events
BEGIN:VTIMEZONE
TZID:America/New_York
BEGIN:DAYLIGHT
TZOFFSETFROM:-0500
TZOFFSETTO:-0400
TZNAME:EDT
DTSTART:20250309T070000
END:DAYLIGHT
BEGIN:STANDARD
TZOFFSETFROM:-0400
TZOFFSETTO:-0500
TZNAME:EST
DTSTART:20251102T060000
END:STANDARD
END:VTIMEZONE
BEGIN:VEVENT
DTSTART;TZID=America/New_York:20250920T083000
DTEND;TZID=America/New_York:20250920T150000
DTSTAMP:20260424T071850
CREATED:20250908T173755Z
LAST-MODIFIED:20250908T173755Z
UID:27513-1758357000-1758380400@events.mercer.edu
SUMMARY:Be a Good NeighBear
DESCRIPTION:Join MerServe for Be a Good NeighBear\, Mercer’s annual day of service\, as we come together to make a meaningful impact across Middle Georgia. This flagship event offers students the opportunity to volunteer alongside community partners such as Habitat for Humanity\, Backpack Buddies\, All About Animals\, Goodwill Industries\, and many more. \nAfter completing your service project\, stop by the Connell Student Center Breezeway to pick up your free Be a Good NeighBear t-shirt! \nVolunteer registration is open now on BearPulse: https://givepul.se/fq5j5m. \nFollow us on Instagram @mercermerserve for the latest updates and announcements. \nLet’s show what it means to be a good neighbor—Mercer style!
URL:https://events.mercer.edu/event/be-a-good-neighbear-5/
LOCATION:Connell Student Center Breezeway\, 1501 Mercer University Drive\, Macon\, 31207
CATEGORIES:Faculty & Staff,Student
ATTACH;FMTTYPE=image/png:https://events.mercer.edu/wp-content/uploads/sites/3/2025/09/BAGN_Poster-8.5-x-11-in.png
ORGANIZER;CN="MerServe":MAILTO:Volunteer@mercer.edu
END:VEVENT
END:VCALENDAR