BEGIN:VCALENDAR
VERSION:2.0
PRODID:-//Mercer Events - ECPv5.16.4//NONSGML v1.0//EN
CALSCALE:GREGORIAN
METHOD:PUBLISH
X-WR-CALNAME:Mercer Events
X-ORIGINAL-URL:https://events.mercer.edu
X-WR-CALDESC:Events for Mercer Events
BEGIN:VTIMEZONE
TZID:America/New_York
BEGIN:DAYLIGHT
TZOFFSETFROM:-0500
TZOFFSETTO:-0400
TZNAME:EDT
DTSTART:20260308T070000
END:DAYLIGHT
BEGIN:STANDARD
TZOFFSETFROM:-0400
TZOFFSETTO:-0500
TZNAME:EST
DTSTART:20261101T060000
END:STANDARD
END:VTIMEZONE
BEGIN:VEVENT
DTSTART;TZID=America/New_York:20260313T080000
DTEND;TZID=America/New_York:20260313T133000
DTSTAMP:20260425T200535
CREATED:20260210T184124Z
LAST-MODIFIED:20260210T184124Z
UID:30453-1773388800-1773408600@events.mercer.edu
SUMMARY:Bears Beach Bash
DESCRIPTION:8 a.m. Mercer vs. Palm Beach Atlantic\n2 p.m. Mercer vs. UT Martin
URL:https://events.mercer.edu/event/bears-beach-bash/
LOCATION:Bear Beach
CATEGORIES:Athletics
ATTACH;FMTTYPE=image/jpeg:https://events.mercer.edu/wp-content/uploads/sites/3/2026/02/DSC06864.jpg
ORGANIZER;CN="Todd%20Anderson":MAILTO:anderson_t02@mercer.edu
END:VEVENT
END:VCALENDAR