BEGIN:VCALENDAR
VERSION:2.0
PRODID:-//Mercer Events - ECPv5.16.4//NONSGML v1.0//EN
CALSCALE:GREGORIAN
METHOD:PUBLISH
X-WR-CALNAME:Mercer Events
X-ORIGINAL-URL:https://events.mercer.edu
X-WR-CALDESC:Events for Mercer Events
BEGIN:VTIMEZONE
TZID:America/New_York
BEGIN:DAYLIGHT
TZOFFSETFROM:-0500
TZOFFSETTO:-0400
TZNAME:EDT
DTSTART:20220313T070000
END:DAYLIGHT
BEGIN:STANDARD
TZOFFSETFROM:-0400
TZOFFSETTO:-0500
TZNAME:EST
DTSTART:20221106T060000
END:STANDARD
END:VTIMEZONE
BEGIN:VEVENT
DTSTART;TZID=America/New_York:20220928T193000
DTEND;TZID=America/New_York:20220928T213000
DTSTAMP:20260422T031428
CREATED:20220914T174124Z
LAST-MODIFIED:20220914T174124Z
UID:12625-1664393400-1664400600@events.mercer.edu
SUMMARY:Broadway Does Pride
DESCRIPTION:Broadway Does Pride \n7:30 p.m.\, Grand Opera House \nBroadway Does Pride is an upbeat cabaret-style performance blending Broadway-inspired vocal stylings with the eclectic atmosphere of an intimate lounge show in downtown Macon. From Rent reminding us to “measure your life in love” to songs like “I’m Coming Out” from Diana Ross and “Vogue” from Madonna\, we will spotlight music important to the LGBTQ+ community. These will be performed by Macon’s very own talent with a fresh and campy twist\, making it a night of fun\, freedom and love. Part of Macon Pride 2022. $10.
URL:https://events.mercer.edu/event/broadway-does-pride/
LOCATION:The Piedmont Grand Opera House\, 651 Mulberry Street\, Macon\, 31201
CATEGORIES:Arts
ATTACH;FMTTYPE=image/jpeg:https://events.mercer.edu/wp-content/uploads/sites/3/2022/09/broadway_does_pride_season_slidelowres.jpeg
END:VEVENT
END:VCALENDAR