BEGIN:VCALENDAR
VERSION:2.0
PRODID:-//Mercer Events - ECPv5.16.4//NONSGML v1.0//EN
CALSCALE:GREGORIAN
METHOD:PUBLISH
X-WR-CALNAME:Mercer Events
X-ORIGINAL-URL:https://events.mercer.edu
X-WR-CALDESC:Events for Mercer Events
BEGIN:VTIMEZONE
TZID:America/New_York
BEGIN:DAYLIGHT
TZOFFSETFROM:-0500
TZOFFSETTO:-0400
TZNAME:EDT
DTSTART:20220313T070000
END:DAYLIGHT
BEGIN:STANDARD
TZOFFSETFROM:-0400
TZOFFSETTO:-0500
TZNAME:EST
DTSTART:20221106T060000
END:STANDARD
END:VTIMEZONE
BEGIN:VEVENT
DTSTART;TZID=America/New_York:20220915T173000
DTEND;TZID=America/New_York:20220915T190000
DTSTAMP:20260420T234859
CREATED:20220831T134849Z
LAST-MODIFIED:20220913T150004Z
UID:12147-1663263000-1663268400@events.mercer.edu
SUMMARY:Career Paths to Health Care
DESCRIPTION:No career path is a linear one. During this yearlong series\, industry experts will speak with students about their personal journeys and opportunities available in their field. This session will feature local health care professionals from various roles and backgrounds. Students will also learn more about the health care industry as a whole. \nThis session will be held in-person on the Macon campus and available to stream online at mercer.zoom.us/my/mercerccpd. \nAll current students and alumni interested in learning more about health care are invited\, regardless of school\, college or discipline. \nThe presentation will take place 5:30-7 p.m. \nThis is the link for student and alumni registration: mercer.joinhandshake.com/events/1094189/share_preview. \nFor additional information\, please contact Ashley Herman at herman_ag@mercer.edu or (478) 301-5799.
URL:https://events.mercer.edu/event/career-paths-to-health-care/
LOCATION:Mercer Innovation Center\, 1501 Mercer University Dr\, Macon\, GA\, 31207\, United States
CATEGORIES:Student
ATTACH;FMTTYPE=image/png:https://events.mercer.edu/wp-content/uploads/sites/3/2022/08/AD1BC042-DAF8-4735-ACC1-762E3DACCDC3.png
ORGANIZER;CN="Center%20for%20Career%20and%20Professional%20Development":MAILTO:ccpd-macon@mercer.edu
END:VEVENT
END:VCALENDAR