BEGIN:VCALENDAR
VERSION:2.0
PRODID:-//Mercer Events - ECPv5.16.4//NONSGML v1.0//EN
CALSCALE:GREGORIAN
METHOD:PUBLISH
X-WR-CALNAME:Mercer Events
X-ORIGINAL-URL:https://events.mercer.edu
X-WR-CALDESC:Events for Mercer Events
BEGIN:VTIMEZONE
TZID:America/New_York
BEGIN:DAYLIGHT
TZOFFSETFROM:-0500
TZOFFSETTO:-0400
TZNAME:EDT
DTSTART:20250309T070000
END:DAYLIGHT
BEGIN:STANDARD
TZOFFSETFROM:-0400
TZOFFSETTO:-0500
TZNAME:EST
DTSTART:20251102T060000
END:STANDARD
END:VTIMEZONE
BEGIN:VEVENT
DTSTART;TZID=America/New_York:20250319T121500
DTEND;TZID=America/New_York:20250319T131500
DTSTAMP:20260420T050646
CREATED:20250220T185505Z
LAST-MODIFIED:20250220T185505Z
UID:25482-1742386500-1742390100@events.mercer.edu
SUMMARY:CME for Physicians Series: Advancing Discovery of Geomarkers for Patient-Centered Care
DESCRIPTION:Presented by Jacqueline W. Curtis\, Ph.D.\, Associate Professor\, Co-Director\, GIS Health & Hazards Lab\, Department of Population and Quantitative Health Sciences\, School of Medicine\, Case Western Reserve University and Visiting Associate Professor\, Mercer University School of Medicine\, Columbus\, Georgia \nLearning Objectives:\n– Understand how 80% of patient health can be addressed outside of clinic walls\n– Understand current applications of geospatial technologies and data in clinical medicine\n– Identify geomarkers as complements to biomarkers for patient-centered care \nDetails\nThe National Academy of Medicine estimates that approximately 20% of patient health can be addressed through medical care within clinic walls\, but that 80% is driven by what happens beyond. Geomarkers are an emerging way to characterize this 80%. They are complements to biomarkers and are based on data from the full suite of geospatial technologies\, such as GPS-enabled sensors (e.g.\, air quality) and satellite data (e.g.\, heat exposure). These and other environmental exposures can be integrated with social determinants of health and then linked to patient-level data in Electronic Health Records (EHRs) through Geographic Information Systems (GIS). This approach enables more comprehensive and personalized health care.
URL:https://events.mercer.edu/event/cme-for-physicians-series-advancing-discovery-of-geomarkers-for-patient-centered-care/
LOCATION:Virtual\, GA\, United States
CATEGORIES:Public
ATTACH;FMTTYPE=image/png:https://events.mercer.edu/wp-content/uploads/sites/3/2025/02/2025_March19_Event_15x152.png
END:VEVENT
END:VCALENDAR