BEGIN:VCALENDAR
VERSION:2.0
PRODID:-//Mercer Events - ECPv5.16.4//NONSGML v1.0//EN
CALSCALE:GREGORIAN
METHOD:PUBLISH
X-WR-CALNAME:Mercer Events
X-ORIGINAL-URL:https://events.mercer.edu
X-WR-CALDESC:Events for Mercer Events
BEGIN:VTIMEZONE
TZID:America/New_York
BEGIN:DAYLIGHT
TZOFFSETFROM:-0500
TZOFFSETTO:-0400
TZNAME:EDT
DTSTART:20260308T070000
END:DAYLIGHT
BEGIN:STANDARD
TZOFFSETFROM:-0400
TZOFFSETTO:-0500
TZNAME:EST
DTSTART:20261101T060000
END:STANDARD
END:VTIMEZONE
BEGIN:VEVENT
DTSTART;TZID=America/New_York:20260328T111500
DTEND;TZID=America/New_York:20260328T131500
DTSTAMP:20260421T073230
CREATED:20260210T184013Z
LAST-MODIFIED:20260310T174437Z
UID:30457-1774696500-1774703700@events.mercer.edu
SUMMARY:Day Two of Sun Belt Conference Mid-Year Weekend
DESCRIPTION:
URL:https://events.mercer.edu/event/day-two-of-sun-belt-conference-mid-year-weekend/2026-03-28/
LOCATION:Bear Beach
CATEGORIES:Athletics
ATTACH;FMTTYPE=image/jpeg:https://events.mercer.edu/wp-content/uploads/sites/3/2026/02/DSC06864-1.jpg
ORGANIZER;CN="Todd%20Anderson":MAILTO:anderson_t02@mercer.edu
END:VEVENT
END:VCALENDAR