BEGIN:VCALENDAR
VERSION:2.0
PRODID:-//Mercer Events - ECPv5.16.4//NONSGML v1.0//EN
CALSCALE:GREGORIAN
METHOD:PUBLISH
X-WR-CALNAME:Mercer Events
X-ORIGINAL-URL:https://events.mercer.edu
X-WR-CALDESC:Events for Mercer Events
BEGIN:VTIMEZONE
TZID:America/New_York
BEGIN:DAYLIGHT
TZOFFSETFROM:-0500
TZOFFSETTO:-0400
TZNAME:EDT
DTSTART:20210314T070000
END:DAYLIGHT
BEGIN:STANDARD
TZOFFSETFROM:-0400
TZOFFSETTO:-0500
TZNAME:EST
DTSTART:20211107T060000
END:STANDARD
END:VTIMEZONE
BEGIN:VEVENT
DTSTART;TZID=America/New_York:20211026T133000
DTEND;TZID=America/New_York:20211026T163000
DTSTAMP:20260424T114824
CREATED:20211024T195618Z
LAST-MODIFIED:20211024T195618Z
UID:8686-1635255000-1635265800@events.mercer.edu
SUMMARY:Doughnuts for Daybreak Homeless Center
DESCRIPTION:Krispy Kreme Doughnuts for sale to benefit Daybreak Homeless Center.
URL:https://events.mercer.edu/event/doughnuts-for-daybreak-homeless-center/
LOCATION:Connell Student Center Breezeway\, 1501 Mercer University Drive\, Macon\, 31207
CATEGORIES:Public
ATTACH;FMTTYPE=image/png:https://events.mercer.edu/wp-content/uploads/sites/3/2021/10/for-use-on-mercers-calendar-2.png
ORGANIZER;CN="Vincent%20Peralta":MAILTO:11025883@live.mercer.edu
END:VEVENT
END:VCALENDAR