BEGIN:VCALENDAR
VERSION:2.0
PRODID:-//Mercer Events - ECPv5.16.4//NONSGML v1.0//EN
CALSCALE:GREGORIAN
METHOD:PUBLISH
X-WR-CALNAME:Mercer Events
X-ORIGINAL-URL:https://events.mercer.edu
X-WR-CALDESC:Events for Mercer Events
BEGIN:VTIMEZONE
TZID:America/New_York
BEGIN:DAYLIGHT
TZOFFSETFROM:-0500
TZOFFSETTO:-0400
TZNAME:EDT
DTSTART:20250309T070000
END:DAYLIGHT
BEGIN:STANDARD
TZOFFSETFROM:-0400
TZOFFSETTO:-0500
TZNAME:EST
DTSTART:20251102T060000
END:STANDARD
END:VTIMEZONE
BEGIN:VEVENT
DTSTART;TZID=America/New_York:20251103T100000
DTEND;TZID=America/New_York:20251103T103000
DTSTAMP:20260423T185245
CREATED:20250924T124054Z
LAST-MODIFIED:20250924T124054Z
UID:27836-1762164000-1762165800@events.mercer.edu
SUMMARY:Echo360: Beyond the Basics
DESCRIPTION:Learn how to increase student engagement by creating polling questions and other activities. Discover how to use the analytics of Echo360\, including how to export the results of polling questions into the Canvas gradebook. Prepare to address student confusion by using confusion alerts.
URL:https://events.mercer.edu/event/echo360-beyond-the-basics-3/
LOCATION:Online
CATEGORIES:Faculty & Staff
ATTACH;FMTTYPE=image/jpeg:https://events.mercer.edu/wp-content/uploads/sites/3/2019/05/jhc_82673-4K.jpg
ORGANIZER;CN="Center%20for%20Teaching%20and%20Learning":MAILTO:codone_s@mercer.edu
END:VEVENT
END:VCALENDAR