BEGIN:VCALENDAR
VERSION:2.0
PRODID:-//Mercer Events - ECPv5.16.4//NONSGML v1.0//EN
CALSCALE:GREGORIAN
METHOD:PUBLISH
X-WR-CALNAME:Mercer Events
X-ORIGINAL-URL:https://events.mercer.edu
X-WR-CALDESC:Events for Mercer Events
BEGIN:VTIMEZONE
TZID:America/New_York
BEGIN:DAYLIGHT
TZOFFSETFROM:-0500
TZOFFSETTO:-0400
TZNAME:EDT
DTSTART:20200308T070000
END:DAYLIGHT
BEGIN:STANDARD
TZOFFSETFROM:-0400
TZOFFSETTO:-0500
TZNAME:EST
DTSTART:20201101T060000
END:STANDARD
END:VTIMEZONE
BEGIN:VEVENT
DTSTART;TZID=America/New_York:20201117T193000
DTEND;TZID=America/New_York:20201117T213000
DTSTAMP:20260422T033313
CREATED:20201005T164242Z
LAST-MODIFIED:20201005T164242Z
UID:4519-1605641400-1605648600@events.mercer.edu
SUMMARY:Fabian Concert #3: Anne Marie McDermott\, Amy Schwartz Moretti\, Lawrence Dutton\, and Paul Watkins
DESCRIPTION:Two members of the multi-Grammy award winning Emerson Quartet\, violist Lawrence Dutton and cellist Paul Watkins\, will be on stage to join dazzling pianist Anne Marie McDermott and violinist Amy Schwartz Moretti. \nAdjusting to the new normal of 2020\, the Fabian Concert Series will continue to bring great chamber music\, collaboration\, education\,and outreach to Mercer and Macon. This year\, we will explore the diversity and expressiveness of music with some of the world’s greatest musicians and bring healing and thoughtfulness during this unprecedented time.We officially begin our 13th Anniversary Season on September 29th at the Grand Opera House in downtown Macon\, where we will have addressed all our concerns for health and safety. Tickets are $15 per person/free with Mercer orany valid student ID. Single tickets will be available prior to each performance. Call (478) 301-5470 to find out more.
URL:https://events.mercer.edu/event/fabian-concert-3-anne-marie-mcdermott-amy-schwartz-moretti-lawrence-dutton-and-paul-watkins/
LOCATION:The Piedmont Grand Opera House\, 651 Mulberry Street\, Macon\, 31201
CATEGORIES:Arts
ORGANIZER;CN="Leigh%20Anne%20Hise":MAILTO:hise_la@mercer.edu
END:VEVENT
END:VCALENDAR