BEGIN:VCALENDAR
VERSION:2.0
PRODID:-//Mercer Events - ECPv5.16.4//NONSGML v1.0//EN
CALSCALE:GREGORIAN
METHOD:PUBLISH
X-WR-CALNAME:Mercer Events
X-ORIGINAL-URL:https://events.mercer.edu
X-WR-CALDESC:Events for Mercer Events
BEGIN:VTIMEZONE
TZID:America/New_York
BEGIN:DAYLIGHT
TZOFFSETFROM:-0500
TZOFFSETTO:-0400
TZNAME:EDT
DTSTART:20230312T070000
END:DAYLIGHT
BEGIN:STANDARD
TZOFFSETFROM:-0400
TZOFFSETTO:-0500
TZNAME:EST
DTSTART:20231105T060000
END:STANDARD
END:VTIMEZONE
BEGIN:VEVENT
DTSTART;TZID=America/New_York:20230914T193000
DTEND;TZID=America/New_York:20230914T213000
DTSTAMP:20260422T033309
CREATED:20230830T171310Z
LAST-MODIFIED:20230830T174815Z
UID:17023-1694719800-1694727000@events.mercer.edu
SUMMARY:Firestarters Film Festival
DESCRIPTION:A mini-film festival featuring Indigenous-made films to complement Macon’s Ocmulgee Indigenous Celebration. \nThursday\, Sept. 14 at  7:30 p.m. – Bad Press\, a documentary film about press freedom in the Muscogee Nation. \nFriday\, Sept. 15 at 12 p.m. – A lunch hour shorts block featuring a narrative love story Dead Bird Hearts and a sports documentary about women’s stickball\, The Journey of Tiak Hikiya Ohoyo. \nFriday\, Sept. 15 at 7:30 p.m. – Fancy Dance\, a narrative feature about a hustler trying to find her sister missing from the Seneca-Cayuga Reservation. \nSaturday\, Sept. 16 at 10:30 a.m. – This May Be the Last Time\, a documentary story where star filmmaker Sterlin Harjo (Reservation Dogs) explores his own family’s history through hymns. \n$10 single screening pass\, $30 film pass of all four films\, $150 VIP Pass featuring special receptions with food and drink and a ticket to Indigo Girls  BUY NOW
URL:https://events.mercer.edu/event/firestarters-film-festival/2023-09-14/
LOCATION:The Piedmont Grand Opera House\, 651 Mulberry Street\, Macon\, 31201
CATEGORIES:Arts
ATTACH;FMTTYPE=image/jpeg:https://events.mercer.edu/wp-content/uploads/sites/3/2023/08/FireStarters.jpg
END:VEVENT
END:VCALENDAR