BEGIN:VCALENDAR
VERSION:2.0
PRODID:-//Mercer Events - ECPv5.16.4//NONSGML v1.0//EN
CALSCALE:GREGORIAN
METHOD:PUBLISH
X-WR-CALNAME:Mercer Events
X-ORIGINAL-URL:https://events.mercer.edu
X-WR-CALDESC:Events for Mercer Events
BEGIN:VTIMEZONE
TZID:America/New_York
BEGIN:DAYLIGHT
TZOFFSETFROM:-0500
TZOFFSETTO:-0400
TZNAME:EDT
DTSTART:20250309T070000
END:DAYLIGHT
BEGIN:STANDARD
TZOFFSETFROM:-0400
TZOFFSETTO:-0500
TZNAME:EST
DTSTART:20251102T060000
END:STANDARD
END:VTIMEZONE
BEGIN:VEVENT
DTSTART;TZID=America/New_York:20251105T101500
DTEND;TZID=America/New_York:20251105T110000
DTSTAMP:20260423T185753
CREATED:20251024T124233Z
LAST-MODIFIED:20251024T124233Z
UID:28465-1762337700-1762340400@events.mercer.edu
SUMMARY:From Your Syllabus to Their Resume
DESCRIPTION:A webinar for faculty and staff about helping students identify the skills developed in your courses. This webinar is offered by the Center for Career and Professional Development and the Center for Engaged Learning. \nWebinar Outcomes: How can Mercer instructors help students articulate what skills are being developed and/or refined in their courses? This 45-minute webinar\, co-facilitated by Dr. Jennifer Crawford (CCPD) and Dr. Kathy Kloepper (CEL)\, will help Mercer faculty and staff tackle this question. Participants will learn: (1) Definitions related to career competencies; (2) Sample language for syllabi; and (3) Strategies for critical reflection on skills development. The webinar will include time for Q&A. \nRegister on BearPulse: https://mercer.givepulse.com/event/664034-From-Your-Syllabus-to-Their-Resume
URL:https://events.mercer.edu/event/from-your-syllabus-to-their-resume/
LOCATION:Online
CATEGORIES:Faculty & Staff
ATTACH;FMTTYPE=image/jpeg:https://events.mercer.edu/wp-content/uploads/sites/3/2022/08/pexels-andrea-piacquadio-3760072.jpg
ORGANIZER;CN="Center%20for%20Career%20and%20Professional%20Development":MAILTO:ccpd-macon@mercer.edu
END:VEVENT
END:VCALENDAR