BEGIN:VCALENDAR
VERSION:2.0
PRODID:-//Mercer Events - ECPv5.16.4//NONSGML v1.0//EN
CALSCALE:GREGORIAN
METHOD:PUBLISH
X-WR-CALNAME:Mercer Events
X-ORIGINAL-URL:https://events.mercer.edu
X-WR-CALDESC:Events for Mercer Events
BEGIN:VTIMEZONE
TZID:America/New_York
BEGIN:DAYLIGHT
TZOFFSETFROM:-0500
TZOFFSETTO:-0400
TZNAME:EDT
DTSTART:20220313T070000
END:DAYLIGHT
BEGIN:STANDARD
TZOFFSETFROM:-0400
TZOFFSETTO:-0500
TZNAME:EST
DTSTART:20221106T060000
END:STANDARD
END:VTIMEZONE
BEGIN:VEVENT
DTSTART;TZID=America/New_York:20220923T190000
DTEND;TZID=America/New_York:20220923T210000
DTSTAMP:20260422T033315
CREATED:20220914T173420Z
LAST-MODIFIED:20220914T173420Z
UID:12616-1663959600-1663966800@events.mercer.edu
SUMMARY:GABBA Fest 2022 – Life Is Peachy
DESCRIPTION:GABBA Fest 2022 – Life Is Peachy \n7 p.m.\, Grand Opera House \nGeorgia Allman Brothers Band Association celebrates its 30th Anniversary and the 50th Anniversary of “Eat A Peach.” \nFriday – The Danielle Nicole Band; EG Kight Trio opens. Lobby at 5:00\, Doors at 6:00\, Show at 7:00. \nSaturday – Brother & Sister featuring Vaylor and Melody Trucks; Parts & Labor open. \nFREE tickets to Mercer Students with ID at the door.
URL:https://events.mercer.edu/event/gabba-fest-2022-life-is-peachy/2022-09-23/
LOCATION:The Piedmont Grand Opera House\, 651 Mulberry Street\, Macon\, 31201
CATEGORIES:Arts
ATTACH;FMTTYPE=image/jpeg:https://events.mercer.edu/wp-content/uploads/sites/3/2022/09/grand-opera-house.jpg
END:VEVENT
END:VCALENDAR