BEGIN:VCALENDAR
VERSION:2.0
PRODID:-//Mercer Events - ECPv5.16.4//NONSGML v1.0//EN
CALSCALE:GREGORIAN
METHOD:PUBLISH
X-WR-CALNAME:Mercer Events
X-ORIGINAL-URL:https://events.mercer.edu
X-WR-CALDESC:Events for Mercer Events
BEGIN:VTIMEZONE
TZID:America/New_York
BEGIN:DAYLIGHT
TZOFFSETFROM:-0500
TZOFFSETTO:-0400
TZNAME:EDT
DTSTART:20220313T070000
END:DAYLIGHT
BEGIN:STANDARD
TZOFFSETFROM:-0400
TZOFFSETTO:-0500
TZNAME:EST
DTSTART:20221106T060000
END:STANDARD
END:VTIMEZONE
BEGIN:VEVENT
DTSTART;TZID=America/New_York:20221116T190000
DTEND;TZID=America/New_York:20221116T200000
DTSTAMP:20260423T193851
CREATED:20221109T155337Z
LAST-MODIFIED:20221109T155337Z
UID:13640-1668625200-1668628800@events.mercer.edu
SUMMARY:Global Health in Action Fall 2022 Newsletter Launch Party
DESCRIPTION:Join the International and Global Studies (IGS) Department and the staff of the Global Health in Action newsletter for a night of celebration\, learning\, and community. We will be celebrating the launch of our 16th issue\, “Painting the Picture of Violence.” This issue explores recent explosions of violence\, like the Russia-Ukraine War\, global gun violence\, and domestic violence\, and their impact on the health of those impacted. \nThe launch party will be held on Wednesday\, November 16 at 7:00 pm in CSC Conference Room 2. Light refreshments will be served and all attendees will be entered into a drawing to win a winter-themed gift basket! \nContact McKenna Kaufman at mckenna.kaufman@gmail.com with any questions. Follow @globalhealthinaction on Instagram for updates.
URL:https://events.mercer.edu/event/global-health-in-action-fall-2022-newsletter-launch-party/
LOCATION:Connell Student Center\, Conference Room 2\, Macon
CATEGORIES:Student
ATTACH;FMTTYPE=image/png:https://events.mercer.edu/wp-content/uploads/sites/3/2022/11/GHIA-Launch-Party-Flyer-1.png
ORGANIZER;CN="International%20and%20Global%20Studies%20Department":MAILTO:houry_e@mercer.edu
END:VEVENT
END:VCALENDAR