BEGIN:VCALENDAR
VERSION:2.0
PRODID:-//Mercer Events - ECPv5.16.4//NONSGML v1.0//EN
CALSCALE:GREGORIAN
METHOD:PUBLISH
X-WR-CALNAME:Mercer Events
X-ORIGINAL-URL:https://events.mercer.edu
X-WR-CALDESC:Events for Mercer Events
BEGIN:VTIMEZONE
TZID:America/New_York
BEGIN:DAYLIGHT
TZOFFSETFROM:-0500
TZOFFSETTO:-0400
TZNAME:EDT
DTSTART:20220313T070000
END:DAYLIGHT
BEGIN:STANDARD
TZOFFSETFROM:-0400
TZOFFSETTO:-0500
TZNAME:EST
DTSTART:20221106T060000
END:STANDARD
END:VTIMEZONE
BEGIN:VEVENT
DTSTART;TZID=America/New_York:20221026T170000
DTEND;TZID=America/New_York:20221029T220000
DTSTAMP:20260423T115444
CREATED:20220909T154509Z
LAST-MODIFIED:20221024T204407Z
UID:12454-1666803600-1667080800@events.mercer.edu
SUMMARY:Gothic Festival
DESCRIPTION:The second Gothic Festival at Mercer is a series of events that celebrates the Gothic experience in the arts including literature\, drama\, film\, photography\, music\, and writing. \nOct. 26: 6-7:30 p.m. — Panel of Professors discuss themes in the Gothic tradition\nOct. 27: 6-8:30 p.m. — Film: A film will be shown and discussed\nOct. 28: 6-10 p.m. — Game night: Werewolf!\nOct. 29: 2-3:30 p.m. — Contests and cosplay (students’ contributions are awarded)\nOct. 29: 7:30 p.m.  — Mercer Theatre presents “Mercer Haunts: Chilling True Accounts from Mercerians Past and Present”\nOct. 17-Oct. 31 Gothic art exhibit in Connell Student Center\, Conference Room 1
URL:https://events.mercer.edu/event/gothic-festival-2/
LOCATION:Connell Student Center\, Conference Room 1\, 1501 Mercer University Dr\, Macon\, 31207
CATEGORIES:Faculty & Staff,Student
ATTACH;FMTTYPE=image/png:https://events.mercer.edu/wp-content/uploads/sites/3/2022/09/Gothic-Festival-2022.png
ORGANIZER;CN="Clara%20Mengolini":MAILTO:mengolini_c@mercer.edu
END:VEVENT
END:VCALENDAR