BEGIN:VCALENDAR
VERSION:2.0
PRODID:-//Mercer Events - ECPv5.16.4//NONSGML v1.0//EN
CALSCALE:GREGORIAN
METHOD:PUBLISH
X-WR-CALNAME:Mercer Events
X-ORIGINAL-URL:https://events.mercer.edu
X-WR-CALDESC:Events for Mercer Events
BEGIN:VTIMEZONE
TZID:America/New_York
BEGIN:DAYLIGHT
TZOFFSETFROM:-0500
TZOFFSETTO:-0400
TZNAME:EDT
DTSTART:20230312T070000
END:DAYLIGHT
BEGIN:STANDARD
TZOFFSETFROM:-0400
TZOFFSETTO:-0500
TZNAME:EST
DTSTART:20231105T060000
END:STANDARD
END:VTIMEZONE
BEGIN:VEVENT
DTSTART;TZID=America/New_York:20231023T180000
DTEND;TZID=America/New_York:20231023T190000
DTSTAMP:20260420T003436
CREATED:20231018T210127Z
LAST-MODIFIED:20231018T210127Z
UID:18042-1698084000-1698087600@events.mercer.edu
SUMMARY:'Hand Me My Travelin’ Shoes:' Georgia Blues Panel
DESCRIPTION:Georgia Blues Music Influence on the American South regarding Georgia blues music tradition with Jontavious Willis\, Piedmont Bluz artists Valerie and Bendict Turner and Georgia Folklorist Fred Fussell\nFree and open to the public
URL:https://events.mercer.edu/event/hand-me-my-travelin-shoes-georgia-blues-panel/
LOCATION:Presidents Dining Room\, 1501 Mercer University Drive\, Macon\, 31207
CATEGORIES:Arts
ATTACH;FMTTYPE=image/jpeg:https://events.mercer.edu/wp-content/uploads/sites/3/2023/10/panel-for-print.jpg
END:VEVENT
END:VCALENDAR