BEGIN:VCALENDAR
VERSION:2.0
PRODID:-//Mercer Events - ECPv5.16.4//NONSGML v1.0//EN
CALSCALE:GREGORIAN
METHOD:PUBLISH
X-WR-CALNAME:Mercer Events
X-ORIGINAL-URL:https://events.mercer.edu
X-WR-CALDESC:Events for Mercer Events
BEGIN:VTIMEZONE
TZID:America/New_York
BEGIN:DAYLIGHT
TZOFFSETFROM:-0500
TZOFFSETTO:-0400
TZNAME:EDT
DTSTART:20240310T070000
END:DAYLIGHT
BEGIN:STANDARD
TZOFFSETFROM:-0400
TZOFFSETTO:-0500
TZNAME:EST
DTSTART:20241103T060000
END:STANDARD
END:VTIMEZONE
BEGIN:VEVENT
DTSTART;TZID=America/New_York:20241108T193000
DTEND;TZID=America/New_York:20241108T213000
DTSTAMP:20260422T031428
CREATED:20241030T173928Z
LAST-MODIFIED:20241030T173928Z
UID:24029-1731094200-1731101400@events.mercer.edu
SUMMARY:Henry Cho
DESCRIPTION:On February 11\, comedian Henry Cho was inducted as the 229th member of The Grand Ole Opry. This prestigious honor has not been extended to a comedian since 1973. Henry’s TV credits include appearances on NBC’s The Tonight Show\, CBS’s The Late\, Late\, Show\, and NBC’s Young Comedians Special. He served two years as host of NBC’s Friday Night Videos and had many guest roles on various network sitcoms. Henry was co-creator\, co- producer and co-writer of “The Henry Cho Show” on GAC. Henry’s one-hour Comedy Central Special\, “What’s That Clickin Noise?” was also on Netflix. Henry can also be heard daily on Sirrus\, XM\, Blue Collar Radio and Pandora. BUY TICKETS
URL:https://events.mercer.edu/event/henry-cho/
LOCATION:The Piedmont Grand Opera House\, 651 Mulberry Street\, Macon\, 31201
CATEGORIES:Arts
ATTACH;FMTTYPE=image/jpeg:https://events.mercer.edu/wp-content/uploads/sites/3/2024/10/HenryCho_MACGA_1080x1080.jpg
END:VEVENT
END:VCALENDAR