BEGIN:VCALENDAR
VERSION:2.0
PRODID:-//Mercer Events - ECPv5.16.4//NONSGML v1.0//EN
CALSCALE:GREGORIAN
METHOD:PUBLISH
X-WR-CALNAME:Mercer Events
X-ORIGINAL-URL:https://events.mercer.edu
X-WR-CALDESC:Events for Mercer Events
BEGIN:VTIMEZONE
TZID:America/New_York
BEGIN:DAYLIGHT
TZOFFSETFROM:-0500
TZOFFSETTO:-0400
TZNAME:EDT
DTSTART:20260308T070000
END:DAYLIGHT
BEGIN:STANDARD
TZOFFSETFROM:-0400
TZOFFSETTO:-0500
TZNAME:EST
DTSTART:20261101T060000
END:STANDARD
END:VTIMEZONE
BEGIN:VEVENT
DTSTART;TZID=America/New_York:20260223T180000
DTEND;TZID=America/New_York:20260223T190000
DTSTAMP:20260423T122440
CREATED:20260218T161224Z
LAST-MODIFIED:20260218T161224Z
UID:30501-1771869600-1771873200@events.mercer.edu
SUMMARY:How Not to Let a Poem Bully You: Reading Difficult Poems From the Gut
DESCRIPTION:This talk by Bruce Beasley\, the 2026 Ferrol Sams Jr. Distinguished Chair in English\, will be an exploration of how to read poems through emotion\, sensation\, and association and how not to let even a “hard” poem intimidate you. \nBruce Beasley is the author of nine poetry collections and the recipient of fellowships from the National Endowment for the Arts and the Artist Trust of Washington. Originally from Macon\, he is Emeritus Professor of English at Western Washington University\, where he received the university’s Peter J. Elich Excellence in Teaching Award. This semester at Mercer\, he is teaching CRW 485\, an advanced writing workshop on poetry and the work of dreams.
URL:https://events.mercer.edu/event/how-not-to-let-a-poem-bully-you-reading-difficult-poems-from-the-gut/
LOCATION:Presidents Dining Room\, 1501 Mercer University Drive\, Macon\, 31207
CATEGORIES:Faculty & Staff,Student
ATTACH;FMTTYPE=image/png:https://events.mercer.edu/wp-content/uploads/sites/3/2026/02/Bruce-Beasley-Talk.png
END:VEVENT
END:VCALENDAR