BEGIN:VCALENDAR
VERSION:2.0
PRODID:-//Mercer Events - ECPv5.16.4//NONSGML v1.0//EN
CALSCALE:GREGORIAN
METHOD:PUBLISH
X-WR-CALNAME:Mercer Events
X-ORIGINAL-URL:https://events.mercer.edu
X-WR-CALDESC:Events for Mercer Events
BEGIN:VTIMEZONE
TZID:America/New_York
BEGIN:DAYLIGHT
TZOFFSETFROM:-0500
TZOFFSETTO:-0400
TZNAME:EDT
DTSTART:20220313T070000
END:DAYLIGHT
BEGIN:STANDARD
TZOFFSETFROM:-0400
TZOFFSETTO:-0500
TZNAME:EST
DTSTART:20221106T060000
END:STANDARD
END:VTIMEZONE
BEGIN:VEVENT
DTSTART;TZID=America/New_York:20220219T110000
DTEND;TZID=America/New_York:20220219T130000
DTSTAMP:20260425T065051
CREATED:20220128T140454Z
LAST-MODIFIED:20220128T140454Z
UID:9782-1645268400-1645275600@events.mercer.edu
SUMMARY:Is an MBA for you?
DESCRIPTION:Mercer’s AACSB-accredited MBA programs provide the flexibility\, challenging coursework\, and project-based learning necessary to grow professionally and advance your career. Is now the right time to pursue your MBA? \nMeet with our graduate admissions team in-person on Mercer’s Atlanta campus to discover your options to pursue an MBA at Mercer. Enjoy a short presentation followed by a Q&A session. We’ll cover course requirements\, the application process\, and help you choose the MBA program that’s right for you! This event is free to attend. Limited space available\, so RSVP to reserve your spot.
URL:https://events.mercer.edu/event/is-an-mba-for-you/
LOCATION:Mercer University Atlanta Campus\, 3001 Mercer University Drive\, Atlanta\, 30341
CATEGORIES:Admissions - Graduate/Professional
ATTACH;FMTTYPE=image/png:https://events.mercer.edu/wp-content/uploads/sites/3/2022/01/Evening-MBA-Info-Session.png
ORGANIZER;CN="Mat%20Edmunds":MAILTO:business.admissions@mercer.edu
END:VEVENT
END:VCALENDAR