BEGIN:VCALENDAR
VERSION:2.0
PRODID:-//Mercer Events - ECPv5.16.4//NONSGML v1.0//EN
CALSCALE:GREGORIAN
METHOD:PUBLISH
X-WR-CALNAME:Mercer Events
X-ORIGINAL-URL:https://events.mercer.edu
X-WR-CALDESC:Events for Mercer Events
BEGIN:VTIMEZONE
TZID:America/New_York
BEGIN:DAYLIGHT
TZOFFSETFROM:-0500
TZOFFSETTO:-0400
TZNAME:EDT
DTSTART:20240310T070000
END:DAYLIGHT
BEGIN:STANDARD
TZOFFSETFROM:-0400
TZOFFSETTO:-0500
TZNAME:EST
DTSTART:20241103T060000
END:STANDARD
END:VTIMEZONE
BEGIN:VEVENT
DTSTART;TZID=America/New_York:20240627T180000
DTEND;TZID=America/New_York:20240627T184500
DTSTAMP:20260419T114816
CREATED:20240618T184442Z
LAST-MODIFIED:20240618T184442Z
UID:21587-1719511200-1719513900@events.mercer.edu
SUMMARY:Is the Evening MBA for You?
DESCRIPTION:Join the School of Business to learn more about Mercer University’s Evening MBA.
URL:https://events.mercer.edu/event/is-the-evening-mba-for-you-2/
LOCATION:Mercer Innovation Center\, 1501 Mercer University Dr\, Macon\, GA\, 31207\, United States
CATEGORIES:Admissions - Graduate/Professional
ATTACH;FMTTYPE=image/jpeg:https://events.mercer.edu/wp-content/uploads/sites/3/2024/06/Evening-MBA-Macon.jpg
ORGANIZER;CN="Drew%20McIntosh":MAILTO:mcintosh_b02@mercer.edu
END:VEVENT
END:VCALENDAR