BEGIN:VCALENDAR
VERSION:2.0
PRODID:-//Mercer Events - ECPv5.16.4//NONSGML v1.0//EN
CALSCALE:GREGORIAN
METHOD:PUBLISH
X-WR-CALNAME:Mercer Events
X-ORIGINAL-URL:https://events.mercer.edu
X-WR-CALDESC:Events for Mercer Events
BEGIN:VTIMEZONE
TZID:America/New_York
BEGIN:DAYLIGHT
TZOFFSETFROM:-0500
TZOFFSETTO:-0400
TZNAME:EDT
DTSTART:20240310T070000
END:DAYLIGHT
BEGIN:STANDARD
TZOFFSETFROM:-0400
TZOFFSETTO:-0500
TZNAME:EST
DTSTART:20241103T060000
END:STANDARD
END:VTIMEZONE
BEGIN:VEVENT
DTSTART;TZID=America/New_York:20241003T193000
DTEND;TZID=America/New_York:20241003T213000
DTSTAMP:20260422T033310
CREATED:20240925T161439Z
LAST-MODIFIED:20240925T161439Z
UID:23243-1727983800-1727991000@events.mercer.edu
SUMMARY:Jason Aldean: Concert for the Kids
DESCRIPTION:3X ACM Entertainer of the Year and ACM Artist of the Decade Jason Aldean has bolstered 28 No. 1 hits\, over 18 billion streams\, and more than 20 million albums sold with “his own recipe…one that has vaulted him to the pinnacle of Country music success” (Atlanta Journal Constitution). This show is a benefit for Navicent Health Foundation. $99-350 BUY TICKETS
URL:https://events.mercer.edu/event/jason-aldean-concert-for-the-kids/
LOCATION:The Piedmont Grand Opera House\, 651 Mulberry Street\, Macon\, 31201
CATEGORIES:Arts
ATTACH;FMTTYPE=image/png:https://events.mercer.edu/wp-content/uploads/sites/3/2024/09/JA-for-Tickets-1440-x-900-1.png
END:VEVENT
END:VCALENDAR