BEGIN:VCALENDAR
VERSION:2.0
PRODID:-//Mercer Events - ECPv5.16.4//NONSGML v1.0//EN
CALSCALE:GREGORIAN
METHOD:PUBLISH
X-WR-CALNAME:Mercer Events
X-ORIGINAL-URL:https://events.mercer.edu
X-WR-CALDESC:Events for Mercer Events
BEGIN:VTIMEZONE
TZID:America/New_York
BEGIN:DAYLIGHT
TZOFFSETFROM:-0500
TZOFFSETTO:-0400
TZNAME:EDT
DTSTART:20240310T070000
END:DAYLIGHT
BEGIN:STANDARD
TZOFFSETFROM:-0400
TZOFFSETTO:-0500
TZNAME:EST
DTSTART:20241103T060000
END:STANDARD
END:VTIMEZONE
BEGIN:VEVENT
DTSTART;TZID=America/New_York:20240226T190000
DTEND;TZID=America/New_York:20240226T210000
DTSTAMP:20260422T033305
CREATED:20240221T191729Z
LAST-MODIFIED:20240221T191729Z
UID:20279-1708974000-1708981200@events.mercer.edu
SUMMARY:Jesus Christ Superstar
DESCRIPTION:An iconic musical phenomenon with a worldwide fan base. In celebration of its 50th Anniversary\, a new mesmerizing production comes to America. Appealing to both theater audiences and concert music fans\, the show creates a modern\, theatrical world that is uniquely fresh and inspiring. Featuring award-winning music by Andrew Lloyd Webber and lyrics by Tim Rice\, Jesus Christ Superstar is set against an extraordinary series of events during the final weeks in the life of Jesus Christ\, as seen through the eyes of Judas. Reflecting the rock roots that defined a generation\, the legendary score features “I Don’t Know How to Love Him\,” “Gethsemane” and “Superstar.” $25 Rush Tickets available at the door for Mercer Students. BUY TICKETS
URL:https://events.mercer.edu/event/jesus-christ-superstar/2024-02-26/
LOCATION:The Piedmont Grand Opera House\, 651 Mulberry Street\, Macon\, 31201
CATEGORIES:Arts
ATTACH;FMTTYPE=image/jpeg:https://events.mercer.edu/wp-content/uploads/sites/3/2024/02/JCS_Digital.jpg
END:VEVENT
END:VCALENDAR