BEGIN:VCALENDAR
VERSION:2.0
PRODID:-//Mercer Events - ECPv5.16.4//NONSGML v1.0//EN
CALSCALE:GREGORIAN
METHOD:PUBLISH
X-WR-CALNAME:Mercer Events
X-ORIGINAL-URL:https://events.mercer.edu
X-WR-CALDESC:Events for Mercer Events
BEGIN:VTIMEZONE
TZID:America/New_York
BEGIN:DAYLIGHT
TZOFFSETFROM:-0500
TZOFFSETTO:-0400
TZNAME:EDT
DTSTART:20240310T070000
END:DAYLIGHT
BEGIN:STANDARD
TZOFFSETFROM:-0400
TZOFFSETTO:-0500
TZNAME:EST
DTSTART:20241103T060000
END:STANDARD
END:VTIMEZONE
BEGIN:VEVENT
DTSTART;TZID=America/New_York:20241114T193000
DTEND;TZID=America/New_York:20241114T210000
DTSTAMP:20260422T133459
CREATED:20240909T204921Z
LAST-MODIFIED:20240909T204921Z
UID:22901-1731612600-1731618000@events.mercer.edu
SUMMARY:Jubilee Artist Series Presents: Ana María Martínez\, Soprano
DESCRIPTION:Grammy Award® winner Ana María Martínez is considered to be one of the foremost sopranos of her time with an international career that spans the world’s most important opera houses and concert halls. A winner of the 15th Annual OPERA NEWS Awards\, her repertoire encompasses opera’s most intriguing and diverse leading ladies\, and she engages her audiences season after season with signature roles\, spellbinding debuts\, and a myriad of captivating recordings.
URL:https://events.mercer.edu/event/jubilee-artist-series-presents-ana-maria-martinez-soprano/
LOCATION:Fickling Hall\, 1501 Mercer University Drive\, Macon\, 31207
CATEGORIES:Arts
ATTACH;FMTTYPE=image/jpeg:https://events.mercer.edu/wp-content/uploads/sites/3/2024/09/Ana-Maria-Martinez.jpg
ORGANIZER;CN="Townsend%20School%20of%20Music":MAILTO:music@mercer.edu
END:VEVENT
END:VCALENDAR