BEGIN:VCALENDAR
VERSION:2.0
PRODID:-//Mercer Events - ECPv5.16.4//NONSGML v1.0//EN
CALSCALE:GREGORIAN
METHOD:PUBLISH
X-WR-CALNAME:Mercer Events
X-ORIGINAL-URL:https://events.mercer.edu
X-WR-CALDESC:Events for Mercer Events
BEGIN:VTIMEZONE
TZID:America/New_York
BEGIN:DAYLIGHT
TZOFFSETFROM:-0500
TZOFFSETTO:-0400
TZNAME:EDT
DTSTART:20230312T070000
END:DAYLIGHT
BEGIN:STANDARD
TZOFFSETFROM:-0400
TZOFFSETTO:-0500
TZNAME:EST
DTSTART:20231105T060000
END:STANDARD
END:VTIMEZONE
BEGIN:VEVENT
DTSTART;TZID=America/New_York:20230418T193000
DTEND;TZID=America/New_York:20230418T210000
DTSTAMP:20260425T124347
CREATED:20230405T124620Z
LAST-MODIFIED:20230405T124620Z
UID:15572-1681846200-1681851600@events.mercer.edu
SUMMARY:Jubilee Concert Series Featuring Baritone Reginald Smith Jr.
DESCRIPTION:The Jubilee Concert Series closes the 22-23 Season with a resounding performance by Grammy and Emmy-award winning baritone Reginald Smith\, Jr.\, the 2021 US representative at the BBC Cardiff Singer of the World Competition. Mr. Smith has been lauded as a “passionate performer” (New York Times) with an “electric\, hall-filling” (The Baltimore Sun) and “thrillingly dramatic” (Opera News) voice that is “one of the most exciting baritone sounds to come along in years” (Opera News). A native of Atlanta\, Mr. Smith is a Grand Finals winner of the 2015 Metropolitan Opera National Council Auditions and a graduate of the Houston Grand Opera Studio.
URL:https://events.mercer.edu/event/jubilee-concert-series-featuring-baritone-reginald-smith-jr/
LOCATION:Fickling Hall\, 1501 Mercer University Drive\, Macon\, 31207
CATEGORIES:Arts
ATTACH;FMTTYPE=image/jpeg:https://events.mercer.edu/wp-content/uploads/sites/3/2023/04/Reginald-Smith-baritone.jpg
ORGANIZER;CN="Annie%20Stephens":MAILTO:music@mercer.edu
END:VEVENT
END:VCALENDAR