BEGIN:VCALENDAR
VERSION:2.0
PRODID:-//Mercer Events - ECPv5.16.4//NONSGML v1.0//EN
CALSCALE:GREGORIAN
METHOD:PUBLISH
X-WR-CALNAME:Mercer Events
X-ORIGINAL-URL:https://events.mercer.edu
X-WR-CALDESC:Events for Mercer Events
BEGIN:VTIMEZONE
TZID:America/New_York
BEGIN:DAYLIGHT
TZOFFSETFROM:-0500
TZOFFSETTO:-0400
TZNAME:EDT
DTSTART:20260308T070000
END:DAYLIGHT
BEGIN:STANDARD
TZOFFSETFROM:-0400
TZOFFSETTO:-0500
TZNAME:EST
DTSTART:20261101T060000
END:STANDARD
END:VTIMEZONE
BEGIN:VEVENT
DTSTART;TZID=America/New_York:20260225T113000
DTEND;TZID=America/New_York:20260225T150000
DTSTAMP:20260422T091736
CREATED:20260218T161457Z
LAST-MODIFIED:20260218T161457Z
UID:30496-1772019000-1772031600@events.mercer.edu
SUMMARY:Kappa Kappa Psi Bake Sale
DESCRIPTION:Come and support the sound of service by purchasing some cookies from KKPsi before spring break!
URL:https://events.mercer.edu/event/kappa-kappa-psi-bake-sale/
LOCATION:Connell Student Center Lobby\, Macon\, GA
CATEGORIES:Faculty & Staff,Student
ATTACH;FMTTYPE=image/jpeg:https://events.mercer.edu/wp-content/uploads/sites/3/2026/02/KKPSI.jpeg
ORGANIZER;CN="Kappa%20Kappa%20Psi":MAILTO:kappakappapsimercer@gmail.com
END:VEVENT
END:VCALENDAR