BEGIN:VCALENDAR
VERSION:2.0
PRODID:-//Mercer Events - ECPv5.16.4//NONSGML v1.0//EN
CALSCALE:GREGORIAN
METHOD:PUBLISH
X-WR-CALNAME:Mercer Events
X-ORIGINAL-URL:https://events.mercer.edu
X-WR-CALDESC:Events for Mercer Events
BEGIN:VTIMEZONE
TZID:America/New_York
BEGIN:DAYLIGHT
TZOFFSETFROM:-0500
TZOFFSETTO:-0400
TZNAME:EDT
DTSTART:20220313T070000
END:DAYLIGHT
BEGIN:STANDARD
TZOFFSETFROM:-0400
TZOFFSETTO:-0500
TZNAME:EST
DTSTART:20221106T060000
END:STANDARD
END:VTIMEZONE
BEGIN:VEVENT
DTSTART;TZID=America/New_York:20220107T123000
DTEND;TZID=America/New_York:20220107T133000
DTSTAMP:20260422T133459
CREATED:20220103T142320Z
LAST-MODIFIED:20220103T142320Z
UID:9200-1641558600-1641562200@events.mercer.edu
SUMMARY:Leading in Health Care – Is the Health Care MBA Right for You?
DESCRIPTION:Want to become a leader in your field? Looking to make a career change? Join Mercer University’s School of Business admissions team as we discuss Mercer’s Health Care MBA program. Gain insight into how the Health Care MBA can help you achieve your career goals and learn how to put together a compelling application. Register today to join us for this online session.
URL:https://events.mercer.edu/event/leading-in-health-care-is-the-health-care-mba-right-for-you/
LOCATION:Online
CATEGORIES:Admissions - Graduate/Professional
ATTACH;FMTTYPE=image/jpeg:https://events.mercer.edu/wp-content/uploads/sites/3/2022/01/Health-Care-MBA.jpg
ORGANIZER;CN="Jamie%20Lineberry":MAILTO:MaconMBA@mercer.edu
END:VEVENT
END:VCALENDAR