BEGIN:VCALENDAR
VERSION:2.0
PRODID:-//Mercer Events - ECPv5.16.4//NONSGML v1.0//EN
CALSCALE:GREGORIAN
METHOD:PUBLISH
X-WR-CALNAME:Mercer Events
X-ORIGINAL-URL:https://events.mercer.edu
X-WR-CALDESC:Events for Mercer Events
BEGIN:VTIMEZONE
TZID:America/New_York
BEGIN:DAYLIGHT
TZOFFSETFROM:-0500
TZOFFSETTO:-0400
TZNAME:EDT
DTSTART:20240310T070000
END:DAYLIGHT
BEGIN:STANDARD
TZOFFSETFROM:-0400
TZOFFSETTO:-0500
TZNAME:EST
DTSTART:20241103T060000
END:STANDARD
END:VTIMEZONE
BEGIN:VEVENT
DTSTART;TZID=America/New_York:20240917T170000
DTEND;TZID=America/New_York:20240917T180000
DTSTAMP:20260423T232803
CREATED:20240816T135809Z
LAST-MODIFIED:20240816T135809Z
UID:22163-1726592400-1726596000@events.mercer.edu
SUMMARY:Let’s Dance It Out: Dance Therapy and Line Dancing Workshop
DESCRIPTION:Engage students\, faculty and staff in dance\, fun and anxiety/stress reducing activities.
URL:https://events.mercer.edu/event/lets-dance-it-out-dance-therapy-and-line-dancing-workshop/
LOCATION:Sheffield Center\, 3001 Mercer University Drive\, Atlanta\, 30341
CATEGORIES:Faculty & Staff
ATTACH;FMTTYPE=image/png:https://events.mercer.edu/wp-content/uploads/sites/3/2024/08/7.png
ORGANIZER;CN="CAPS%20Atlanta":MAILTO:geralds_ed@mercer.edu
END:VEVENT
END:VCALENDAR