BEGIN:VCALENDAR
VERSION:2.0
PRODID:-//Mercer Events - ECPv5.16.4//NONSGML v1.0//EN
CALSCALE:GREGORIAN
METHOD:PUBLISH
X-WR-CALNAME:Mercer Events
X-ORIGINAL-URL:https://events.mercer.edu
X-WR-CALDESC:Events for Mercer Events
BEGIN:VTIMEZONE
TZID:America/New_York
BEGIN:DAYLIGHT
TZOFFSETFROM:-0500
TZOFFSETTO:-0400
TZNAME:EDT
DTSTART:20260308T070000
END:DAYLIGHT
BEGIN:STANDARD
TZOFFSETFROM:-0400
TZOFFSETTO:-0500
TZNAME:EST
DTSTART:20261101T060000
END:STANDARD
END:VTIMEZONE
BEGIN:VEVENT
DTSTART;TZID=America/New_York:20260317T120000
DTEND;TZID=America/New_York:20260317T130000
DTSTAMP:20260421T073957
CREATED:20260218T161656Z
LAST-MODIFIED:20260218T161656Z
UID:30486-1773748800-1773752400@events.mercer.edu
SUMMARY:Lunch and Learn: Insider Secrets for Landing a Job
DESCRIPTION:Open to All Mercer Bears on the Atlanta Campus! \nDon’t miss this opportunity to learn from Kathy Bremer\, an executive recruiter\, career strategist\, and trusted guide with experience on both sides of the hiring desk. This interactive Lunch & Learn introduces students to the unwritten rules of today’s job search. \nYou’ll leave with a free copy of Kathy’s book Headhunter Confidential plus greater clarity\, confidence\, and concrete strategies you can immediately apply to your job search\, including: \n*An understanding of how hiring decisions are made\, and how to navigate the current job market\n*Insider strategies for targeting roles and getting noticed\n*Practical guidance on networking with intention and confidence\n*Actionable next steps to take charge of their job search \nFor questions\, please reach out to Dr. Moses Ngungu at ngungu_mk@mercer.edu or Julie Cannon at cannon_je@mercer.edu.
URL:https://events.mercer.edu/event/lunch-and-learn-insider-secrets-for-landing-a-job/
LOCATION:Trustees Dining Room\, 3001 Mercer University Drive\, Atlanta\, GA\, 30341\, United States
CATEGORIES:Faculty & Staff,Student
ATTACH;FMTTYPE=image/png:https://events.mercer.edu/wp-content/uploads/sites/3/2026/02/DMP-March-17-Business-Lunch-and-Learn-Flyer-1581-x-947-px.png
ORGANIZER;CN="Moses%20Ngungu":MAILTO:ngungu_mk@mercer.edu
END:VEVENT
END:VCALENDAR