BEGIN:VCALENDAR
VERSION:2.0
PRODID:-//Mercer Events - ECPv5.16.4//NONSGML v1.0//EN
CALSCALE:GREGORIAN
METHOD:PUBLISH
X-WR-CALNAME:Mercer Events
X-ORIGINAL-URL:https://events.mercer.edu
X-WR-CALDESC:Events for Mercer Events
BEGIN:VTIMEZONE
TZID:America/New_York
BEGIN:DAYLIGHT
TZOFFSETFROM:-0500
TZOFFSETTO:-0400
TZNAME:EDT
DTSTART:20260308T070000
END:DAYLIGHT
BEGIN:STANDARD
TZOFFSETFROM:-0400
TZOFFSETTO:-0500
TZNAME:EST
DTSTART:20261101T060000
END:STANDARD
END:VTIMEZONE
BEGIN:VEVENT
DTSTART;TZID=America/New_York:20260115T153000
DTEND;TZID=America/New_York:20260115T170000
DTSTAMP:20260423T185129
CREATED:20260102T153859Z
LAST-MODIFIED:20260106T150540Z
UID:29203-1768491000-1768496400@events.mercer.edu
SUMMARY:Macon Campus Future Forward Forum
DESCRIPTION:President Elkins will talk about how she plans to engage the University community in charting a course for Mercer’s future.
URL:https://events.mercer.edu/event/macon-campus-future-forward-forum/
LOCATION:Presidents Dining Room\, 1501 Mercer University Drive\, Macon\, 31207
CATEGORIES:Faculty & Staff,Student
ATTACH;FMTTYPE=image/jpeg:https://events.mercer.edu/wp-content/uploads/sites/3/2025/12/251114MUPresOfficeAnnouncement_0207.jpg
ORGANIZER;CN="Kellie%20Reffitt":MAILTO:reffitt_ke@mercer.edu
END:VEVENT
END:VCALENDAR