BEGIN:VCALENDAR
VERSION:2.0
PRODID:-//Mercer Events - ECPv5.16.4//NONSGML v1.0//EN
CALSCALE:GREGORIAN
METHOD:PUBLISH
X-WR-CALNAME:Mercer Events
X-ORIGINAL-URL:https://events.mercer.edu
X-WR-CALDESC:Events for Mercer Events
BEGIN:VTIMEZONE
TZID:America/New_York
BEGIN:DAYLIGHT
TZOFFSETFROM:-0500
TZOFFSETTO:-0400
TZNAME:EDT
DTSTART:20240310T070000
END:DAYLIGHT
BEGIN:STANDARD
TZOFFSETFROM:-0400
TZOFFSETTO:-0500
TZNAME:EST
DTSTART:20241103T060000
END:STANDARD
END:VTIMEZONE
BEGIN:VEVENT
DTSTART;TZID=America/New_York:20240131T193000
DTEND;TZID=America/New_York:20240131T213000
DTSTAMP:20260422T033308
CREATED:20240119T131602Z
LAST-MODIFIED:20240124T140520Z
UID:19595-1706729400-1706736600@events.mercer.edu
SUMMARY:Macon Civic Club Musical Revue
DESCRIPTION:Year after year\, hundreds of Macon Civic Club members and wives cast themselves in roles\, sell tickets and program ads\, and dedicate long hours of planning\, rehearsal\, and set building to produce an event designed to entertain the thousands of patrons who support the show and its beneficiaries. \nLocal amateur talent combined with professional direction ensures the authentic\, imperfect qualities that define every Macon Civic Club Musical Revue. Punch lines fall flat\, dancers trip up\, singers forget lyrics\, and skits are unapologetically politically incorrect. Yet\, amazing local talent shines in the spotlight of every show – a reminder of Macon’s assets and unlimited cultural potential. \nGet tickets: \nWednesday\, Jan. 31 \nThursday\, Feb. 1 \nFriday\, Feb. 2 \nSaturday\, Feb. 3
URL:https://events.mercer.edu/event/macon-civic-club-musical-revue/2024-01-31/
LOCATION:The Piedmont Grand Opera House\, 651 Mulberry Street\, Macon\, 31201
CATEGORIES:Arts
ATTACH;FMTTYPE=image/jpeg:https://events.mercer.edu/wp-content/uploads/sites/3/2022/09/grand-opera-house.jpg
END:VEVENT
END:VCALENDAR