BEGIN:VCALENDAR
VERSION:2.0
PRODID:-//Mercer Events - ECPv5.16.4//NONSGML v1.0//EN
CALSCALE:GREGORIAN
METHOD:PUBLISH
X-WR-CALNAME:Mercer Events
X-ORIGINAL-URL:https://events.mercer.edu
X-WR-CALDESC:Events for Mercer Events
BEGIN:VTIMEZONE
TZID:America/New_York
BEGIN:DAYLIGHT
TZOFFSETFROM:-0500
TZOFFSETTO:-0400
TZNAME:EDT
DTSTART:20220313T070000
END:DAYLIGHT
BEGIN:STANDARD
TZOFFSETFROM:-0400
TZOFFSETTO:-0500
TZNAME:EST
DTSTART:20221106T060000
END:STANDARD
END:VTIMEZONE
BEGIN:VEVENT
DTSTART;TZID=America/New_York:20221121T193000
DTEND;TZID=America/New_York:20221121T210000
DTSTAMP:20260422T032126
CREATED:20221109T180140Z
LAST-MODIFIED:20221114T214710Z
UID:13677-1669059000-1669064400@events.mercer.edu
SUMMARY:Macon-Mercer Symphony Orchestra Featuring Conductor Jeffrey Turner and Jazz Pianist Aaron Diehl
DESCRIPTION:A thoughtful MMSO concert highlights the diversity of American experiences: “From the New World\,” created when Czech-born Dvořák was working in the U.S.\, and one of the most popular orchestral pieces from an American composer\, Bernstein’s Candide overture. Jazz virtuoso Aaron Diehl will take on Gershwin\, an American icon\, in Concerto in F. Student seats are always free at the door at the symphony with valid ID. Tickets range from $25-35. BUY NOW
URL:https://events.mercer.edu/event/macon-mercer-symphony-orchestra-6/
LOCATION:The Piedmont Grand Opera House\, 651 Mulberry Street\, Macon\, 31201
CATEGORIES:Arts
ATTACH;FMTTYPE=image/jpeg:https://events.mercer.edu/wp-content/uploads/sites/3/2022/11/2210_MaconMercerSymphony_CiSmith-577-1790x1152-1.jpg
END:VEVENT
END:VCALENDAR