BEGIN:VCALENDAR
VERSION:2.0
PRODID:-//Mercer Events - ECPv5.16.4//NONSGML v1.0//EN
CALSCALE:GREGORIAN
METHOD:PUBLISH
X-WR-CALNAME:Mercer Events
X-ORIGINAL-URL:https://events.mercer.edu
X-WR-CALDESC:Events for Mercer Events
BEGIN:VTIMEZONE
TZID:America/New_York
BEGIN:DAYLIGHT
TZOFFSETFROM:-0500
TZOFFSETTO:-0400
TZNAME:EDT
DTSTART:20230312T070000
END:DAYLIGHT
BEGIN:STANDARD
TZOFFSETFROM:-0400
TZOFFSETTO:-0500
TZNAME:EST
DTSTART:20231105T060000
END:STANDARD
END:VTIMEZONE
BEGIN:VEVENT
DTSTART;TZID=America/New_York:20231016T193000
DTEND;TZID=America/New_York:20231016T213000
DTSTAMP:20260422T032116
CREATED:20230926T131111Z
LAST-MODIFIED:20230926T131111Z
UID:17624-1697484600-1697491800@events.mercer.edu
SUMMARY:Macon-Mercer Symphony Orchestra
DESCRIPTION:We toast the opening of the MMSO season and Macon’s 200th birthday with a thrilling opening led by native son Roderick Cox. Beethoven’s Eroica is a boundary-breaking symphony that ushered in the Romantic era\, while Copland’s Appalachian Spring will be the backdrop for “Macon Portrait\,” a special staged documentary play written to honor Macon’s legacy and future by Andrew Silver for Macon200. $25-35\, Students of all ages FREE at the door BUY TICKETS
URL:https://events.mercer.edu/event/macon-mercer-symphony-orchestra-9/
LOCATION:The Piedmont Grand Opera House\, 651 Mulberry Street\, Macon\, 31201
ATTACH;FMTTYPE=image/jpeg:https://events.mercer.edu/wp-content/uploads/sites/3/2023/09/MMSO-social-Oct-16.jpg
END:VEVENT
END:VCALENDAR