BEGIN:VCALENDAR
VERSION:2.0
PRODID:-//Mercer Events - ECPv5.16.4//NONSGML v1.0//EN
CALSCALE:GREGORIAN
METHOD:PUBLISH
X-WR-CALNAME:Mercer Events
X-ORIGINAL-URL:https://events.mercer.edu
X-WR-CALDESC:Events for Mercer Events
BEGIN:VTIMEZONE
TZID:America/New_York
BEGIN:DAYLIGHT
TZOFFSETFROM:-0500
TZOFFSETTO:-0400
TZNAME:EDT
DTSTART:20240310T070000
END:DAYLIGHT
BEGIN:STANDARD
TZOFFSETFROM:-0400
TZOFFSETTO:-0500
TZNAME:EST
DTSTART:20241103T060000
END:STANDARD
END:VTIMEZONE
BEGIN:VEVENT
DTSTART;TZID=America/New_York:20240415T193000
DTEND;TZID=America/New_York:20240415T213000
DTSTAMP:20260422T033304
CREATED:20240305T214923Z
LAST-MODIFIED:20240305T214923Z
UID:20456-1713209400-1713216600@events.mercer.edu
SUMMARY:Macon-Mercer Symphony Orchestra\, Conducted by Jeff Turner
DESCRIPTION:The season concludes with the Mercer University Concerto Competition Student Winner\, as well as the artistic suite “Pictures at an Exhibition.” Ravel’s arrangements for large orchestra is the model of technical brilliance\, creative vision\, and thoughtfulness for Mussorgsky’s original intent for the great piano work. Tickets are $25 for regular seats\, $35 for premium seats\, free for students of all ages with any valid student ID.
URL:https://events.mercer.edu/event/macon-mercer-symphony-orchestra-conducted-by-jeff-turner/
LOCATION:The Piedmont Grand Opera House\, 651 Mulberry Street\, Macon\, 31201
CATEGORIES:Arts
ATTACH;FMTTYPE=image/jpeg:https://events.mercer.edu/wp-content/uploads/sites/3/2024/03/MMSO.jpg
ORGANIZER;CN="Townsend%20School%20of%20Music":MAILTO:music@mercer.edu
END:VEVENT
END:VCALENDAR