BEGIN:VCALENDAR
VERSION:2.0
PRODID:-//Mercer Events - ECPv5.16.4//NONSGML v1.0//EN
CALSCALE:GREGORIAN
METHOD:PUBLISH
X-WR-CALNAME:Mercer Events
X-ORIGINAL-URL:https://events.mercer.edu
X-WR-CALDESC:Events for Mercer Events
BEGIN:VTIMEZONE
TZID:America/New_York
BEGIN:DAYLIGHT
TZOFFSETFROM:-0500
TZOFFSETTO:-0400
TZNAME:EDT
DTSTART:20250309T070000
END:DAYLIGHT
BEGIN:STANDARD
TZOFFSETFROM:-0400
TZOFFSETTO:-0500
TZNAME:EST
DTSTART:20251102T060000
END:STANDARD
END:VTIMEZONE
BEGIN:VEVENT
DTSTART;TZID=America/New_York:20251006T100000
DTEND;TZID=America/New_York:20251006T103000
DTSTAMP:20260424T071554
CREATED:20250924T122503Z
LAST-MODIFIED:20250924T122503Z
UID:27824-1759744800-1759746600@events.mercer.edu
SUMMARY:Make Canvas Gradebook Work for You
DESCRIPTION:Would you like to leverage this tool to best work for you and your courses? Come to this training to (re)discover how to set up Gradebook\, learn ways to make grading quicker and easier\, and prepare to get the most out of what Canvas Gradebook has to offer.
URL:https://events.mercer.edu/event/make-canvas-gradebook-work-for-you-3/
LOCATION:Online
CATEGORIES:Faculty & Staff
ATTACH;FMTTYPE=image/jpeg:https://events.mercer.edu/wp-content/uploads/sites/3/2019/05/jhc_82673-4K.jpg
ORGANIZER;CN="Center%20for%20Teaching%20and%20Learning":MAILTO:codone_s@mercer.edu
END:VEVENT
END:VCALENDAR