BEGIN:VCALENDAR
VERSION:2.0
PRODID:-//Mercer Events - ECPv5.16.4//NONSGML v1.0//EN
CALSCALE:GREGORIAN
METHOD:PUBLISH
X-WR-CALNAME:Mercer Events
X-ORIGINAL-URL:https://events.mercer.edu
X-WR-CALDESC:Events for Mercer Events
BEGIN:VTIMEZONE
TZID:America/New_York
BEGIN:DAYLIGHT
TZOFFSETFROM:-0500
TZOFFSETTO:-0400
TZNAME:EDT
DTSTART:20220313T070000
END:DAYLIGHT
BEGIN:STANDARD
TZOFFSETFROM:-0400
TZOFFSETTO:-0500
TZNAME:EST
DTSTART:20221106T060000
END:STANDARD
END:VTIMEZONE
BEGIN:VEVENT
DTSTART;TZID=America/New_York:20220118T170000
DTEND;TZID=America/New_York:20220118T180000
DTSTAMP:20260422T133352
CREATED:20220103T142709Z
LAST-MODIFIED:20220103T143146Z
UID:9203-1642525200-1642528800@events.mercer.edu
SUMMARY:Master of Accountancy Information Session
DESCRIPTION:Join members of Mercer’s School of Business admissions team to discover how our Master of Accountancy program is designed to help you achieve your career goals. Whether you’re interested in pursuing your CPA licensure\, a new opportunity\, or advancing within your current organization\, join us to learn more and ask any questions you may have. Register today to join us for this online session.
URL:https://events.mercer.edu/event/master-of-accountancy-information-session-3/
LOCATION:Online
CATEGORIES:Admissions - Graduate/Professional
ATTACH;FMTTYPE=image/jpeg:https://events.mercer.edu/wp-content/uploads/sites/3/2022/01/MAcc-Info-Session-1.jpg
ORGANIZER;CN="Mat%20Edmunds":MAILTO:business.admissions@mercer.edu
END:VEVENT
END:VCALENDAR