BEGIN:VCALENDAR
VERSION:2.0
PRODID:-//Mercer Events - ECPv5.16.4//NONSGML v1.0//EN
CALSCALE:GREGORIAN
METHOD:PUBLISH
X-WR-CALNAME:Mercer Events
X-ORIGINAL-URL:https://events.mercer.edu
X-WR-CALDESC:Events for Mercer Events
BEGIN:VTIMEZONE
TZID:America/New_York
BEGIN:DAYLIGHT
TZOFFSETFROM:-0500
TZOFFSETTO:-0400
TZNAME:EDT
DTSTART:20260308T070000
END:DAYLIGHT
BEGIN:STANDARD
TZOFFSETFROM:-0400
TZOFFSETTO:-0500
TZNAME:EST
DTSTART:20261101T060000
END:STANDARD
END:VTIMEZONE
BEGIN:VEVENT
DTSTART;TZID=America/New_York:20260626T120000
DTEND;TZID=America/New_York:20260626T130000
DTSTAMP:20260422T145855
CREATED:20260422T132823Z
LAST-MODIFIED:20260422T132832Z
UID:31578-1782475200-1782478800@events.mercer.edu
SUMMARY:Master of Family Therapy (M.F.T.) Virtual Information Session
DESCRIPTION:Join our MFT program director for a virtual information session to help you decide if our program is right for you and to more fully explore how the program may fit into your goals. You will find it a great way to learn more about the MFT program itself and ask any specific questions that you might have. \nFormat: Presentation followed by Q & A.
URL:https://events.mercer.edu/event/master-of-family-therapy-m-f-t-virtual-information-session-2/2026-06-26/
LOCATION:ZOOM\, United States
CATEGORIES:Admissions - Graduate/Professional
ATTACH;FMTTYPE=image/jpeg:https://events.mercer.edu/wp-content/uploads/sites/3/2026/04/MFT-Info_Session-Image-for-Submit-an-Event.jpg
ORGANIZER;CN="MUSM%20Admissions":MAILTO:musmadmissions@mercer.edu
END:VEVENT
END:VCALENDAR