BEGIN:VCALENDAR
VERSION:2.0
PRODID:-//Mercer Events - ECPv5.16.4//NONSGML v1.0//EN
CALSCALE:GREGORIAN
METHOD:PUBLISH
X-WR-CALNAME:Mercer Events
X-ORIGINAL-URL:https://events.mercer.edu
X-WR-CALDESC:Events for Mercer Events
BEGIN:VTIMEZONE
TZID:America/New_York
BEGIN:DAYLIGHT
TZOFFSETFROM:-0500
TZOFFSETTO:-0400
TZNAME:EDT
DTSTART:20240310T070000
END:DAYLIGHT
BEGIN:STANDARD
TZOFFSETFROM:-0400
TZOFFSETTO:-0500
TZNAME:EST
DTSTART:20241103T060000
END:STANDARD
END:VTIMEZONE
BEGIN:VEVENT
DTSTART;TZID=America/New_York:20240501T193000
DTEND;TZID=America/New_York:20240501T213000
DTSTAMP:20260422T031752
CREATED:20240410T153012Z
LAST-MODIFIED:20240410T153505Z
UID:20907-1714591800-1714599000@events.mercer.edu
SUMMARY:Menopause The Musical 2
DESCRIPTION:The hysterical sequel to the smash-hit Menopause The Musical® is finally here! Five years after their chance encounter in a department store\, we set sail with our beloved ladies for more high jinks on the high seas. Cruising Through ‘The Change’\, is a hilarious and heartfelt look at the joys of menopause and friendship — plus hot flashes\, mood swings\, memory lapses & more! Join us on a trip of self-discovery\, backed by a new soundtrack of toe-tapping parodied greatest hits from the 70s\, 80s and 90s! $35-45 Adult. BUY NOW
URL:https://events.mercer.edu/event/menopause-the-musical-2/
LOCATION:The Piedmont Grand Opera House\, 651 Mulberry Street\, Macon\, 31201
CATEGORIES:Arts
ATTACH;FMTTYPE=image/jpeg:https://events.mercer.edu/wp-content/uploads/sites/3/2024/04/MTM2_1080x1080_Social-Square-01.jpg
END:VEVENT
END:VCALENDAR