BEGIN:VCALENDAR
VERSION:2.0
PRODID:-//Mercer Events - ECPv5.16.4//NONSGML v1.0//EN
CALSCALE:GREGORIAN
METHOD:PUBLISH
X-WR-CALNAME:Mercer Events
X-ORIGINAL-URL:https://events.mercer.edu
X-WR-CALDESC:Events for Mercer Events
BEGIN:VTIMEZONE
TZID:America/New_York
BEGIN:DAYLIGHT
TZOFFSETFROM:-0500
TZOFFSETTO:-0400
TZNAME:EDT
DTSTART:20240310T070000
END:DAYLIGHT
BEGIN:STANDARD
TZOFFSETFROM:-0400
TZOFFSETTO:-0500
TZNAME:EST
DTSTART:20241103T060000
END:STANDARD
END:VTIMEZONE
BEGIN:VEVENT
DTSTART;TZID=America/New_York:20241111T193000
DTEND;TZID=America/New_York:20241111T210000
DTSTAMP:20260422T033200
CREATED:20241021T212348Z
LAST-MODIFIED:20241021T212348Z
UID:23531-1731353400-1731358800@events.mercer.edu
SUMMARY:Mercer Wind Ensemble Presents "American Voices"
DESCRIPTION:Guest composer and conductor Dr. Jack Stamp will conduct two pieces on the program including his famous “Gavorkna Fanfare” to open the evening. Cailey Martinez will be featured in Dr. Stamp’s “Elegy for English Horn and Band” and the Mercer Wind Ensemble will perform pieces by Peter Mennin\, Leonard Bernstein\, and Katahj Copley. This event is free and open to the public.
URL:https://events.mercer.edu/event/mercer-wind-ensemble-presents-american-voices/
LOCATION:The Piedmont Grand Opera House\, 651 Mulberry Street\, Macon\, 31201
CATEGORIES:Arts
ATTACH;FMTTYPE=image/jpeg:https://events.mercer.edu/wp-content/uploads/sites/3/2024/10/Wind-Ensemble-at-GOH-primary.jpg
ORGANIZER;CN="Townsend%20School%20of%20Music":MAILTO:music@mercer.edu
END:VEVENT
END:VCALENDAR