BEGIN:VCALENDAR
VERSION:2.0
PRODID:-//Mercer Events - ECPv5.16.4//NONSGML v1.0//EN
CALSCALE:GREGORIAN
METHOD:PUBLISH
X-WR-CALNAME:Mercer Events
X-ORIGINAL-URL:https://events.mercer.edu
X-WR-CALDESC:Events for Mercer Events
BEGIN:VTIMEZONE
TZID:America/New_York
BEGIN:DAYLIGHT
TZOFFSETFROM:-0500
TZOFFSETTO:-0400
TZNAME:EDT
DTSTART:20220313T070000
END:DAYLIGHT
BEGIN:STANDARD
TZOFFSETFROM:-0400
TZOFFSETTO:-0500
TZNAME:EST
DTSTART:20221106T060000
END:STANDARD
END:VTIMEZONE
BEGIN:VEVENT
DTSTART;TZID=America/New_York:20221010T193000
DTEND;TZID=America/New_York:20221010T210000
DTSTAMP:20260422T031926
CREATED:20220928T170804Z
LAST-MODIFIED:20220928T170904Z
UID:13059-1665430200-1665435600@events.mercer.edu
SUMMARY:Mercer Wind Ensemble Presents “New Beginnings”
DESCRIPTION:Mercer Wind Ensemble presents “New Beginnings” \n7:30 p.m.\, Grand Opera House \nBrittan Braddock and Nate Gay\, conductors \nPlease join the Mercer University Wind Ensemble for an evening of wind band music celebrating the past and the present at the Grand Opera House. This concert will mark the first with new faculty member and director of bands\, Brittan Braddock. Nathan Gay (Director of Athletic Bands) will guest conduct a piece on the program. Featured on the program will be works by Gustav Holst\, Kevin Day\, William Himes\, Nelson Jesus\, and more. Please join us for an exciting evening of wind band music featuring the talented students of Mercer University’s Townsend School of Music. This is a FREE concert! There is a suggested donation of $10 that can be taken in the lobby before or after the concert. We hope to see you there!
URL:https://events.mercer.edu/event/mercer-wind-ensemble-presents-new-beginnings/
LOCATION:The Piedmont Grand Opera House\, 651 Mulberry Street\, Macon\, 31201
CATEGORIES:Arts
ATTACH;FMTTYPE=image/jpeg:https://events.mercer.edu/wp-content/uploads/sites/3/2022/09/MU-Wind-Ensemble.jpg
END:VEVENT
END:VCALENDAR