BEGIN:VCALENDAR
VERSION:2.0
PRODID:-//Mercer Events - ECPv5.16.4//NONSGML v1.0//EN
CALSCALE:GREGORIAN
METHOD:PUBLISH
X-WR-CALNAME:Mercer Events
X-ORIGINAL-URL:https://events.mercer.edu
X-WR-CALDESC:Events for Mercer Events
BEGIN:VTIMEZONE
TZID:America/New_York
BEGIN:DAYLIGHT
TZOFFSETFROM:-0500
TZOFFSETTO:-0400
TZNAME:EDT
DTSTART:20250309T070000
END:DAYLIGHT
BEGIN:STANDARD
TZOFFSETFROM:-0400
TZOFFSETTO:-0500
TZNAME:EST
DTSTART:20251102T060000
END:STANDARD
END:VTIMEZONE
BEGIN:VEVENT
DTSTART;TZID=America/New_York:20251124T193000
DTEND;TZID=America/New_York:20251124T210000
DTSTAMP:20260422T032044
CREATED:20250813T191413Z
LAST-MODIFIED:20250813T191413Z
UID:26950-1764012600-1764018000@events.mercer.edu
SUMMARY:Mercer Wind Ensemble Presents "Voices"
DESCRIPTION:Mercer Wind Ensemble presents Voices\, featuring Brittan Braddock\, conductor
URL:https://events.mercer.edu/event/mercer-wind-ensemble-presents-voices/
LOCATION:The Piedmont Grand Opera House\, 651 Mulberry Street\, Macon\, 31201
CATEGORIES:Arts
ATTACH;FMTTYPE=image/jpeg:https://events.mercer.edu/wp-content/uploads/sites/3/2025/08/Wind-Ensemble-Cal.jpg
ORGANIZER;CN="Townsend%20School%20of%20Music":MAILTO:music@mercer.edu
END:VEVENT
END:VCALENDAR