BEGIN:VCALENDAR
VERSION:2.0
PRODID:-//Mercer Events - ECPv5.16.4//NONSGML v1.0//EN
CALSCALE:GREGORIAN
METHOD:PUBLISH
X-WR-CALNAME:Mercer Events
X-ORIGINAL-URL:https://events.mercer.edu
X-WR-CALDESC:Events for Mercer Events
BEGIN:VTIMEZONE
TZID:America/New_York
BEGIN:DAYLIGHT
TZOFFSETFROM:-0500
TZOFFSETTO:-0400
TZNAME:EDT
DTSTART:20230312T070000
END:DAYLIGHT
BEGIN:STANDARD
TZOFFSETFROM:-0400
TZOFFSETTO:-0500
TZNAME:EST
DTSTART:20231105T060000
END:STANDARD
END:VTIMEZONE
BEGIN:VEVENT
DTSTART;TZID=America/New_York:20231117T100000
DTEND;TZID=America/New_York:20231117T110000
DTSTAMP:20260420T080638
CREATED:20231108T140902Z
LAST-MODIFIED:20231108T155332Z
UID:18415-1700215200-1700218800@events.mercer.edu
SUMMARY:MU CyberSec Security Workshop
DESCRIPTION:Join MU CyberSec at our second Cybersecurity Workshop this semester! Drop by Willet Auditorium on November 17th at 10:10 a.m. to learn how to protect yourself against scary cyber threats. There will be a prize raffle\, so please sign up!! Faculty\, Staff\, and Students are all welcome!
URL:https://events.mercer.edu/event/mu-cybersec-security-workshop/
LOCATION:Willet Science Center Auditorium\, ga\, United States
CATEGORIES:Student
ATTACH;FMTTYPE=image/jpeg:https://events.mercer.edu/wp-content/uploads/sites/3/2020/11/Cyber-Security-Webinar.jpg
END:VEVENT
END:VCALENDAR