BEGIN:VCALENDAR
VERSION:2.0
PRODID:-//Mercer Events - ECPv5.16.4//NONSGML v1.0//EN
CALSCALE:GREGORIAN
METHOD:PUBLISH
X-WR-CALNAME:Mercer Events
X-ORIGINAL-URL:https://events.mercer.edu
X-WR-CALDESC:Events for Mercer Events
BEGIN:VTIMEZONE
TZID:America/New_York
BEGIN:DAYLIGHT
TZOFFSETFROM:-0500
TZOFFSETTO:-0400
TZNAME:EDT
DTSTART:20230312T070000
END:DAYLIGHT
BEGIN:STANDARD
TZOFFSETFROM:-0400
TZOFFSETTO:-0500
TZNAME:EST
DTSTART:20231105T060000
END:STANDARD
END:VTIMEZONE
BEGIN:VEVENT
DTSTART;TZID=America/New_York:20230307T190000
DTEND;TZID=America/New_York:20230307T200000
DTSTAMP:20260420T083822
CREATED:20230224T203351Z
LAST-MODIFIED:20230224T203351Z
UID:15115-1678215600-1678219200@events.mercer.edu
SUMMARY:MyMercer and Canvas In-Person Tutorial
DESCRIPTION:Mercer University continues to offer innovative programs that connect you to opportunities in today’s workplace. Our programs are designed specifically for working adults\, making it possible for you to manage the important things in life while pursuing any one of our industry-focused programs. Join Mercer’s Working Adults Undergraduate Admissions team to learn how our evening\, weekend\, and online curriculum can help you reach your educational goals!
URL:https://events.mercer.edu/event/mymercer-and-canvas-in-person-tutorial-2/
LOCATION:Trustees Dining Room\, 3001 Mercer University Drive\, Atlanta\, 30341
CATEGORIES:Student Success - Working Adults Undergraduate
ATTACH;FMTTYPE=image/jpeg:https://events.mercer.edu/wp-content/uploads/sites/3/2023/02/App-and-FA-WS-Atlanta-2.jpg
ORGANIZER;CN="Renee%20Slaton":MAILTO:slaton_nr@mercer.edu
END:VEVENT
END:VCALENDAR