BEGIN:VCALENDAR
VERSION:2.0
PRODID:-//Mercer Events - ECPv5.16.4//NONSGML v1.0//EN
CALSCALE:GREGORIAN
METHOD:PUBLISH
X-WR-CALNAME:Mercer Events
X-ORIGINAL-URL:https://events.mercer.edu
X-WR-CALDESC:Events for Mercer Events
BEGIN:VTIMEZONE
TZID:America/New_York
BEGIN:DAYLIGHT
TZOFFSETFROM:-0500
TZOFFSETTO:-0400
TZNAME:EDT
DTSTART:20220313T070000
END:DAYLIGHT
BEGIN:STANDARD
TZOFFSETFROM:-0400
TZOFFSETTO:-0500
TZNAME:EST
DTSTART:20221106T060000
END:STANDARD
END:VTIMEZONE
BEGIN:VEVENT
DTSTART;TZID=America/New_York:20220423T130000
DTEND;TZID=America/New_York:20220423T140000
DTSTAMP:20260420T004635
CREATED:20220408T123515Z
LAST-MODIFIED:20220408T123515Z
UID:10709-1650718800-1650722400@events.mercer.edu
SUMMARY:Nikky Finney: Thomas Robinson Prize for Southern Literature
DESCRIPTION:Mercer University’s Spencer B. King Jr. Center for Southern Studies will award the 2022 Thomas Robinson Prize for Southern Literature to renowned poet\, professor and author Nikky Finney. \nThe prize will be presented April 23 at 1 p.m. in the Presidents Dining Room inside the University Center on the Macon campus. \n“Words come and go. But the word that remains the great shark in the Atlantic Ocean\, that is my life\, is the word ‘Southerner.’ This word that fits and begins me\, that also knows how to camouflage\, deep dive and create its own myth\, while also possessing the right historical teeth for the futuristic job of writing\,” said Finney. “I read southern writers as a girl poet. They became the nexus of humanity for me. I learned the true altitude of southern worlds from Ernest Gaines and Yusef Komunyakaa then took off on my own trail. To be invited to stand with these former Thomas Robinson honorees\, as well as all the others of the past 10 years\, those who have engaged and wrestled with this complicated land\, sea and air is truly an extraordinary moment in my life.” \nFinney was born by the sea in South Carolina and raised during the Civil Rights\, Black Power and Black Arts movements. She has been a faculty member at Cave Canem summer workshop for African American poets; a founding member of the Affrilachian Poets\, a particular place for poets of color in Appalachia; poet and professor for 23 years at the University of Kentucky; and visiting professor at Berea and Smith colleges. \nIn her home state of South Carolina\, she involves herself in the day-to-day battles for truth and justice while also guiding both undergraduates and MFA students at the University of South Carolina\, where she is the John H. Bennett Jr. Chair in Creative Writing and Southern Letters\, with appointments in both the Department of English Language and Literature and the African American Studies Program. \n“Nikky Finney writes powerfully and rhapsodically about the experiences\, memories\, families and communities of Black people living in the U.S. South\,” said Dr. Davis A. Davis\, associate director of the Spencer B. King Jr. Center for Southern Studies. “Her poems explore the beauty and the sorrow found in experiences and objects\, and they celebrate the stories of people who have survived and achieved. We are immensely proud to present her with the Thomas Robinson Prize.” \nFinney’s work includes the arenas of Black girl genius unrecognized\, Black history misplaced and forgotten\, and the stories of women who prefer to jump instead of ride the traditional tracks of polite and acceptable society. In her full body of poetry and storytelling\, she explores the whispers and shouts of sexuality\, the invisibility of poverty in a world continually smitten by the rich and the powerful\, the graciousness of Black family perseverance\, the truth of history\, the grace and necessity of memory\, as well as the titanic loss of habitat for all things precious and wild. \nShe won the PEN American Open Book Award in 1996 and the Elizabeth O’Neill Verner Award for the Arts in South Carolina in 2016. She edited Black Poets Lean South\, a Cave Canem anthology (2007)\, authored On Wings Made of Gauze (1985)\, Rice (1995)\, Heartwood (1997)\, The World Is Round (2003)\, and Head Off & Split\, winner of the 2011 National Book Award for Poetry. Her work\, in book form and video\, is on display in the inaugural exhibition of the African American Museum of History and Culture in Washington\, D.C. \nHer latest collection of poems\, Love Child’s Hotbed of Occasional Poetry\, was released in April 2020 from TriQuarterly Books/Northwestern University Press.
URL:https://events.mercer.edu/event/nikky-finney-thomas-robinson-prize-for-southern-literature/
LOCATION:Presidents Dining Room\, 1501 Mercer University Drive\, Macon\, 31207
CATEGORIES:Arts
ATTACH;FMTTYPE=image/png:https://events.mercer.edu/wp-content/uploads/sites/3/2022/04/Finney-graphic.png
ORGANIZER;CN="David%20Davis":MAILTO:davis_da@mercer.edu
END:VEVENT
END:VCALENDAR