BEGIN:VCALENDAR
VERSION:2.0
PRODID:-//Mercer Events - ECPv5.16.4//NONSGML v1.0//EN
CALSCALE:GREGORIAN
METHOD:PUBLISH
X-WR-CALNAME:Mercer Events
X-ORIGINAL-URL:https://events.mercer.edu
X-WR-CALDESC:Events for Mercer Events
BEGIN:VTIMEZONE
TZID:America/New_York
BEGIN:DAYLIGHT
TZOFFSETFROM:-0500
TZOFFSETTO:-0400
TZNAME:EDT
DTSTART:20200308T070000
END:DAYLIGHT
BEGIN:STANDARD
TZOFFSETFROM:-0400
TZOFFSETTO:-0500
TZNAME:EST
DTSTART:20201101T060000
END:STANDARD
END:VTIMEZONE
BEGIN:VEVENT
DTSTART;TZID=America/New_York:20201105T193000
DTEND;TZID=America/New_York:20201105T210000
DTSTAMP:20260422T031546
CREATED:20201001T203248Z
LAST-MODIFIED:20201019T195719Z
UID:4509-1604604600-1604610000@events.mercer.edu
SUMMARY:Percussion Ensemble Concert
DESCRIPTION:Ready for a fantastic night of music on November 5th with the Mercer University Percussion Ensemble and BEAR Steel\, Mercer’s own Steel Drum Band?  We’ll be playing music written over the last 40 years to show the diversity of the percussion world.  We guarantee a great time\, so come out to Macon’s Grand Opera House and share the evening with us!!! \nPerformance can be viewed on our Instagram page https://www.instagram.com/musicatmercer/.
URL:https://events.mercer.edu/event/percussion-ensemble-concert/
LOCATION:The Piedmont Grand Opera House\, 651 Mulberry Street\, Macon\, 31201
CATEGORIES:Arts
ORGANIZER;CN="Leigh%20Anne%20Hise":MAILTO:hise_la@mercer.edu
END:VEVENT
END:VCALENDAR