BEGIN:VCALENDAR
VERSION:2.0
PRODID:-//Mercer Events - ECPv5.16.4//NONSGML v1.0//EN
CALSCALE:GREGORIAN
METHOD:PUBLISH
X-WR-CALNAME:Mercer Events
X-ORIGINAL-URL:https://events.mercer.edu
X-WR-CALDESC:Events for Mercer Events
BEGIN:VTIMEZONE
TZID:America/New_York
BEGIN:DAYLIGHT
TZOFFSETFROM:-0500
TZOFFSETTO:-0400
TZNAME:EDT
DTSTART:20240310T070000
END:DAYLIGHT
BEGIN:STANDARD
TZOFFSETFROM:-0400
TZOFFSETTO:-0500
TZNAME:EST
DTSTART:20241103T060000
END:STANDARD
END:VTIMEZONE
BEGIN:VEVENT
DTSTART;TZID=America/New_York:20241013T140000
DTEND;TZID=America/New_York:20241013T153000
DTSTAMP:20260425T064944
CREATED:20241004T173048Z
LAST-MODIFIED:20241004T173048Z
UID:23386-1728828000-1728833400@events.mercer.edu
SUMMARY:Physician Assistant (PA) Program Information Session
DESCRIPTION:Join us for an exciting information session about our physician assistant program! Discover how you can embark on a rewarding career in health care with our comprehensive training and hands-on experience. Meet our esteemed faculty\, hear from current students\, and get all your questions answered about the program curriculum and admission process. Don’t miss this opportunity to learn how you can make a meaningful impact in the medical field. Reserve your spot today and take the first step toward a fulfilling future as a physician assistant! Please note this information session will take place in person on Mercer’s Atlanta campus and will include a tour of the campus and the PA Department.
URL:https://events.mercer.edu/event/physician-assistant-pa-program-information-session-17/
LOCATION:Mercer University Atlanta Campus\, 3001 Mercer University Drive\, Atlanta\, 30341
CATEGORIES:Admissions - Graduate/Professional
ATTACH;FMTTYPE=image/jpeg:https://events.mercer.edu/wp-content/uploads/sites/3/2024/10/pa-pic-walking-1.jpg
ORGANIZER;CN="College%20of%20Health%20Professions":MAILTO:chpadmissions@mercer.edu
END:VEVENT
END:VCALENDAR