BEGIN:VCALENDAR
VERSION:2.0
PRODID:-//Mercer Events - ECPv5.16.4//NONSGML v1.0//EN
CALSCALE:GREGORIAN
METHOD:PUBLISH
X-WR-CALNAME:Mercer Events
X-ORIGINAL-URL:https://events.mercer.edu
X-WR-CALDESC:Events for Mercer Events
BEGIN:VTIMEZONE
TZID:America/New_York
BEGIN:DAYLIGHT
TZOFFSETFROM:-0500
TZOFFSETTO:-0400
TZNAME:EDT
DTSTART:20230312T070000
END:DAYLIGHT
BEGIN:STANDARD
TZOFFSETFROM:-0400
TZOFFSETTO:-0500
TZNAME:EST
DTSTART:20231105T060000
END:STANDARD
END:VTIMEZONE
BEGIN:VEVENT
DTSTART;TZID=America/New_York:20230323T163000
DTEND;TZID=America/New_York:20230323T170000
DTSTAMP:20260420T053416
CREATED:20230316T155942Z
LAST-MODIFIED:20230316T160007Z
UID:15350-1679589000-1679590800@events.mercer.edu
SUMMARY:Roberts Academy Groundbreaking Ceremony
DESCRIPTION:Please join us for a ceremonial groundbreaking for Roberts Academy at Mercer University\, a transitional school for children with dyslexia. The construction site is located next to the Mercer Outdoor Recreation Complex and two blocks from Tattnall Square Park.
URL:https://events.mercer.edu/event/roberts-academy-groundbreaking-ceremony/
LOCATION:Roberts Academy\, 923 Linden Ave\, Macon\, GA\, 31201
CATEGORIES:Public
ATTACH;FMTTYPE=image/jpeg:https://events.mercer.edu/wp-content/uploads/sites/3/2023/03/pexels-rodnae-productions-8500640-1.jpg
END:VEVENT
END:VCALENDAR