BEGIN:VCALENDAR
VERSION:2.0
PRODID:-//Mercer Events - ECPv5.16.4//NONSGML v1.0//EN
CALSCALE:GREGORIAN
METHOD:PUBLISH
X-WR-CALNAME:Mercer Events
X-ORIGINAL-URL:https://events.mercer.edu
X-WR-CALDESC:Events for Mercer Events
BEGIN:VTIMEZONE
TZID:America/New_York
BEGIN:DAYLIGHT
TZOFFSETFROM:-0500
TZOFFSETTO:-0400
TZNAME:EDT
DTSTART:20240310T070000
END:DAYLIGHT
BEGIN:STANDARD
TZOFFSETFROM:-0400
TZOFFSETTO:-0500
TZNAME:EST
DTSTART:20241103T060000
END:STANDARD
END:VTIMEZONE
BEGIN:VEVENT
DTSTART;TZID=America/New_York:20240209T153000
DTEND;TZID=America/New_York:20240209T203000
DTSTAMP:20260425T135759
CREATED:20231013T173014Z
LAST-MODIFIED:20240124T144031Z
UID:17830-1707492600-1707510600@events.mercer.edu
SUMMARY:Softball Hosts Heart of Georgia Classic
DESCRIPTION:The Mercer softball team plays its first home games of the 2024 spring season hosting the Heart of Georgia Classic at Sikes Field.
URL:https://events.mercer.edu/event/softball-hosts-heart-of-georgia-classic/
LOCATION:Sikes Field\, Mercer University\, Macon\, GA\, 31210\, United States
CATEGORIES:Athletics
ATTACH;FMTTYPE=image/jpeg:https://events.mercer.edu/wp-content/uploads/sites/3/2023/10/potential-4.jpg
ORGANIZER;CN="Todd%20Anderson":MAILTO:anderson_t02@mercer.edu
END:VEVENT
END:VCALENDAR